Workbook
Name dd_cyklus: #REF!
Name dd_oneoff: #REF!

Sheet Summary indicators
A1: 76th meeting of the Macroeconomic Forecast Committee, September 15 2026
A2: Summary indicators
A3: percentual change unless otherwise noted
A4: Compulsory indicators | J4: Q-o-Q changes | N4: YoY changes
C7: 2024 | D7: 2025 | E7: 2026 | F7: 2027 | G7: 2028 | H7: 2029 | I7: 2030 | J7: 2026 | K7: 2026 | L7: 2026 | M7: 2027 | N7: 2026 | O7: 2026 | P7: 2026 | Q7: 2027
C8: actual | D8: actual | E8: forecast | F8: forecast | G8: forecast | H8: forecast | I8: forecast | J8: Q2 | K8: Q3 | L8: Q4 | M8: Q1 | N8: Q2 | O8: Q3 | P8: Q4 | Q8: Q1
B10: Real economy
A11: * | B11: Gross domestic product, constant prices | C11: 1.9386745 | D11: 0.80741869 | E11: 0.76068682 | F11: 1.8131466 | G11: 1.5719106 | H11: 2.0659224 | I11: 2.0595669 | J11: 0.20655736 | K11: 0.25 | L11: -0.3 | M11: 0.81934201 | N11: 0.8245109 | O11: 0.95312724 | P11: 0.4085046 | Q11: 0.94333816
A12: * | B12: Private consumption, constant prices | C12: 3.5088675 | D12: 0.23503134 | E12: 0.52441089 | F12: 1.3910432 | G12: 0.53919251 | H12: 0.98941994 | I12: 1.2836316 | J12: 0.036323657 | K12: 0.2 | L12: 0.15 | M12: 0.5744962 | N12: 0.55315136 | O12: 0.15557251 | P12: 0.53187426 | Q12: 0.95534529
B13: Gross fixed capital production, constant prices | C13: 1.6487226 | D13: 2.2243963 | E13: -0.095118208 | F13: -0.97419224 | G13: 1.4668112 | H13: 3.0975273 | I13: 2.2723631 | J13: 7.8332349 | K13: 4.4396872 | L13: -8.296068 | M13: 1.0891191 | N13: -0.32888447 | O13: 7.6512811 | P13: -2.6296366 | Q13: 4.6532301
B14: Public consumption, constant prices | C14: 3.9699869 | D14: 1.105816 | E14: 0.57865196 | F14: 0.73182176 | G14: -0.25079759 | H14: 0.59363488 | I14: 0.82220575 | J14: 0.47797938 | K14: 0.12893819 | L14: -0.72984288 | M14: 0.49888892 | N14: 1.6723424 | O14: 0.9486693 | P14: 0.13034078 | Q14: 0.25376919
B15: Export of goods and services, constant prices | C15: 0.022404902 | D15: 3.9827467 | E15: 3.0575248 | F15: 4.1789262 | G15: 3.250876 | H15: 2.7590175 | I15: 2.5648318 | J15: 2.1301316 | K15: 0.1313501 | L15: 0.06419086 | M15: 1.7937905 | N15: 2.9847453 | O15: 5.6343573 | P15: 3.7549616 | Q15: 4.1550542
B16: Import of goods and services, constant prices | C16: 2.6007971 | D16: 3.7126599 | E16: 3.2203074 | F16: 3.329093 | G16: 2.5906314 | H16: 2.3682236 | I16: 2.2134444 | J16: 2.7828903 | K16: -0.1360392 | L16: -0.54898982 | M16: 1.7574645 | N16: 3.6596032 | O16: 6.577885 | P16: 3.9830424 | Q16: 3.8457646
B18: Nominal activity
A19: * | B19: Gross domestic product, current prices | C19: 5.3981644 | D19: 5.0279677 | E19: 5.2560072 | F19: 4.6686889 | G19: 4.3089338 | H19: 4.296625 | I19: 3.9785851 | J19: 0.9798118 | K19: 0.83760973 | L19: 0.85922274 | M19: 1.4647325 | N19: 5.0052836 | O19: 5.0014251 | P19: 4.4615243 | Q19: 4.1894484
A20: * | B20: Private consumption, current prices | C20: 6.5775849 | D20: 4.4205284 | E20: 4.2565703 | F20: 4.2755565 | G20: 4.1660787 | H20: 3.2080104 | I20: 3.1289854 | J20: 1.0025086 | K20: 0.5747755 | L20: 1.1534393 | M20: 1.4715686 | N20: 4.6123978 | O20: 3.6102212 | P20: 4.1216437 | Q20: 4.2673729
B22: Nominal production
B23: Gross domestic product, bn EUR | C23: 130.20752 | D23: 136.75431 | E23: 143.94213 | F23: 150.66234 | G23: 157.15428 | H23: 163.90661 | I23: 170.42777 | J23: - | K23: - | L23: - | M23: - | N23: - | O23: - | P23: - | Q23: -
B25: Employment
A26: * | B26: Employment (stat. evidence) | C26: -0.23291165 | D26: -0.16591083 | E26: -0.13023781 | F26: 0.054465469 | G26: -0.21020319 | H26: -0.13968653 | I26: -0.15296221 | J26: 0.00058823993 | K26: 0.04 | L26: -0.02 | M26: 0.22094591 | N26: -0.23717801 | O26: -0.018306414 | P26: -0.037302274 | Q26: 0.24195091
B27: Employment (ESA) | C27: -0.15480321 | D27: -0.13302939 | E27: 0.015920763 | F27: 0.051635804 | G27: -0.20540327 | H27: -0.13732897 | I27: -0.15037705 | J27: 0.12430811 | K27: 0 | L27: -0.04 | M27: 0.21807099 | N27: 0.04762927 | O27: 0.10277272 | P27: -0.017511995 | Q27: 0.30273119
B29: Average wage
A30: * | B30: Nominal average wage | C30: 6.5734266 | D30: 6.2992126 | E30: 4.5061728 | F30: 4.3709392 | G30: 4.4142615 | H30: 4.2818428 | I30: 4.002079 | J30: 0.58120302 | K30: 1.04 | L30: 1.04 | M30: 1.3187803 | N30: 3.2043531 | O30: 4.5333325 | P30: 4.2047898 | Q30: 4.031033
B31: Real average wage | C31: =100*((1+ROUND(C30,1)/100)/(1+ROUND(C38,1)/100)-1) -> 3.6964981 | D31: =100*((1+ROUND(D30,1)/100)/(1+ROUND(D38,1)/100)-1) -> 2.2115385 | E31: =100*((1+E30/100)/(1+E38/100)-1) -> 0.81119523 | F31: =100*((1+F30/100)/(1+F38/100)-1) -> 1.4277817 | G31: =100*((1+G30/100)/(1+G38/100)-1) -> 0.034358998 | H31: =100*((1+H30/100)/(1+H38/100)-1) -> 1.969461 | I31: =100*((1+I30/100)/(1+I38/100)-1) -> 1.8674887 | J31: =100*((1+J30/100)/(1+J38/100)-1) -> -0.29302977 | K31: =100*((1+K30/100)/(1+K38/100)-1) -> 0.34467715 | L31: =100*((1+L30/100)/(1+L38/100)-1) -> 0.078218599 | M31: =100*((1+M30/100)/(1+M38/100)-1) -> 0.45417732 | N31: =100*((1+ROUND(N30,1)/100)/(1+ROUND(N38,1)/100)-1) -> -0.48216008 | O31: =100*((1+ROUND(O30,1)/100)/(1+ROUND(O38,1)/100)-1) -> 1.1616651 | P31: =100*((1+ROUND(P30,1)/100)/(1+ROUND(P38,1)/100)-1) -> 0.28873917 | Q31: =100*((1+ROUND(Q30,1)/100)/(1+ROUND(Q38,1)/100)-1) -> 0.67763795
B33: Unemployment
B34: Unemployment rate (LFS) | C34: 5.3352155 | D34: 5.4176358 | E34: 5.7568532 | F34: 5.7703088 | G34: 5.7111773 | H34: 5.4832211 | I34: 5.3705318 | J34: 5.6876116 | K34: 5.7393607 | L34: 5.8408878 | M34: 5.6098587 | N34: - | O34: - | P34: - | Q34: -
B35: No. of unemployed (LFS, thousands) | C35: 147.704 | D35: 149.537 | E35: 158.55797 | F35: 158.24857 | G35: 155.80307 | H35: 148.73126 | I35: 145.0024 | J35: -1.4461451 | K35: 0.81380784 | L35: 1.6851252 | M35: -4.0873933 | N35: 5.7732244 | O35: 4.3012128 | P35: 3.8040678 | Q35: -3.0674747
B37: Price inflation
B38: Consumer price index (CPI) | C38: 2.7651791 | D38: 3.9913253 | E38: 3.6652453 | F38: 2.9017272 | G38: 4.3783981 | H38: 2.2677199 | I38: 2.0954578 | J38: 0.87680208 | K38: 0.69293447 | L38: 0.9610297 | M38: 0.86069387 | N38: 3.7333333 | O38: 3.3395031 | P38: 3.8557786 | Q38: 3.3187135
B41: Weighted bases for budget revenues | C41: =$C$59*C26+$C$59*C30+$C$60*C20+$C$61*C12+$C$62*C19+$C$63*C11 -> 5.9629626 | D41: =$C$59*D26+$C$59*D30+$C$60*D20+$C$61*D12+$C$62*D19+$C$63*D11 -> 5.0884608 | E41: =$C$59*E26+$C$59*E30+$C$60*E20+$C$61*E12+$C$62*E19+$C$63*E11 -> 4.1006347 | F41: =$C$59*F26+$C$59*F30+$C$60*F20+$C$61*F12+$C$62*F19+$C$63*F11 -> 4.1586218 | G41: =$C$59*G26+$C$59*G30+$C$60*G20+$C$61*G12+$C$62*G19+$C$63*G11 -> 3.92219 | H41: =$C$59*H26+$C$59*H30+$C$60*H20+$C$61*H12+$C$62*H19+$C$63*H11 -> 3.6960629 | I41: =$C$59*I26+$C$59*I30+$C$60*I20+$C$61*I12+$C$62*I19+$C$63*I11 -> 3.49137 | J41: - | K41: - | L41: - | M41: - | N41: - | O41: - | P41: - | Q41: -
B44: Households
B45: Gross disposable income | C45: 7.67509 | D45: 3.0180859 | E45: 3.5190922 | F45: 4.5111112 | G45: 3.4793192 | H45: 3.5876482 | I45: 3.3896231 | J45: 1.0957027 | K45: 0.27904137 | L45: 1.223074 | M45: 1.4926151 | N45: 3.9119864 | O45: 4.151985 | P45: 3.1456775 | Q45: 4.0697075
B46: Saving rate (% of disposable income) | C46: 8.0677381 | D46: 7.0700625 | E46: 6.5818642 | F46: 6.7645302 | G46: 6.159159 | H46: 6.5210026 | I46: 6.7694019 | J46: 6.9796235 | K46: 6.4287219 | L46: 6.4890519 | M46: 6.5125347 | N46: - | O46: - | P46: - | Q46: -
B48: Supply side
B49: Potential output | C49: 1.9297566 | D49: 1.8767727 | E49: 2.0407902 | F49: 1.8254715 | G49: 1.7614323 | H49: 1.7745862 | I49: 1.823889 | J49: 0.40217522 | K49: 0.47449285 | L49: 0.50352492 | M49: 0.43260549 | N49: 2.0420502 | O49: 1.9907926 | P49: 1.9797383 | Q49: 1.8251288
B50: Output gap (% of pot. output) | C50: 0.58037919 | D50: -0.4753672 | E50: -1.7239054 | F50: -1.7358007 | G50: -1.9188092 | H50: -1.6380456 | I50: -1.4103805 | J50: -1.4631702 | K50: -1.6833337 | L50: -2.4693747 | M50: -2.0938128 | N50: - | O50: - | P50: - | Q50: -
B52: External sector
B53: Gross domestic product, Eurozone | C53: ='External environment'!S$13 -> 1.2 | D53: ='External environment'!T$13 -> 1.2 | E53: ='External environment'!U$13 -> 0.93739477 | F53: ='External environment'!V$13 -> 1.4277998 | G53: ='External environment'!W$13 -> 1.3532136 | H53: ='External environment'!X$13 -> 1.4477947 | I53: ='External environment'!Y$13 -> 1.4477947 | J53: 0.44196948 | K53: 0.4 | L53: 0.3 | M53: 0.3 | N53: 0.94596435 | O53: 1.0341149 | P53: 1.1408815 | Q53: 1.4497074
B54: Inflation, Eurozone (HICP) | C54: ='External environment'!S$14 -> 2.3669254 | D54: ='External environment'!T$14 -> 2.1357603 | E54: ='External environment'!U$14 -> 2.9 | F54: ='External environment'!V$14 -> 2.4 | G54: ='External environment'!W$14 -> 2.1 | H54: ='External environment'!X$14 -> 2 | I54: ='External environment'!Y$14 -> 1.99486
A57: * | B57: Macroeconomic bases for budget revenues (weights of indicators depend on share of individual taxes on total revenue)
...

Sheet External environment
A1: ='Summary indicators'!A1:Q1 -> 76th meeting of the Macroeconomic Forecast Committee, September 15 2026
A2: External environment and financial sector
A3: percentual change unless otherwise noted
C5: 2008 | D5: 2009 | E5: 2010 | F5: 2011 | G5: 2012 | H5: 2013 | I5: 2014 | J5: 2015 | K5: 2016 | L5: 2017 | M5: 2018 | N5: 2019 | O5: 2020 | P5: 2021 | Q5: 2022 | R5: 2023 | S5: 2024 | T5: 2025 | U5: 2026 | V5: 2027 | W5: 2028 | X5: 2029 | Y5: 2030
C6: actual | D6: actual | E6: actual | F6: actual | G6: actual | H6: actual | I6: actual | J6: actual | K6: actual | L6: actual | M6: actual | N6: actual | O6: actual | P6: actual | Q6: actual | R6: actual | S6: actual | T6: actual | U6: forecast | V6: forecast | W6: forecast | X6: forecast | Y6: forecast
A8: * | B8: External demand (weighted GDP) | C8: 1.3642364 | D8: -3.8107016 | E8: 11.121586 | F8: 2.6360359 | G8: -0.19813778 | H8: 0.30901558 | I8: 2.3535495 | J8: 2.940823 | K8: 2.1990102 | L8: 3.5879943 | M8: 2.5749142 | N8: 2.2405339 | O8: -5.0379765 | P8: 5.6597439 | Q8: 3.7969814 | R8: -0.015885641 | S8: 0.89940018 | T8: 1.4388423 | U8: 1.4184104 | V8: 1.6036379 | W8: 1.8995405 | X8: 1.9153729 | Y8: 1.9184964
A10: * | B10: External demand (weighted imports) | C10: 2.3617303 | D10: -10.617007 | E10: 10.132834 | F10: 5.5396041 | G10: -0.37820348 | H10: 1.4701451 | I10: 6.387345 | J10: 6.2853698 | K10: 4.1221705 | L10: 6.2877704 | M10: 5.0193543 | N10: 3.577248 | O10: -7.9812306 | P10: 10.94325 | Q10: 8.3975514 | R10: -1.4296529 | S10: 0.17682226 | T10: 3.6359658 | U10: 2.8280488 | V10: 2.6961603 | W10: 3.0888736 | X10: 2.8724816 | Y10: 2.8249211
B12: Gross domestic product, Germany | C12: 0.9 | D12: -5.6 | E12: 4.1 | F12: 3.8 | G12: 0.5 | H12: 0.5 | I12: 2.2 | J12: 1.8 | K12: 2.3 | L12: 2.9 | M12: 1.2 | N12: 1.1 | O12: -4 | P12: 4 | Q12: 1.9 | R12: -1 | S12: 0 | T12: 0.2 | U12: 0.99094303 | V12: 1.0227189 | W12: 1.2782463 | X12: 1.1005766 | Y12: 1.1043478
B13: Gross domestic product, Eurozone | C13: 0.4 | D13: -4.4 | E13: 2.1 | F13: 1.7 | G13: -1 | H13: -0.2 | I13: 1.5 | J13: 2.1 | K13: 1.8 | L13: 2.6 | M13: 1.8 | N13: 1.6 | O13: -6 | P13: 6.4 | Q13: 3.7 | R13: 0.4 | S13: 1.2 | T13: 1.2 | U13: 0.93739477 | V13: 1.4277998 | W13: 1.3532136 | X13: 1.4477947 | Y13: 1.4477947
B14: Inflation, Eurozone (HICP) | C14: 3.3 | D14: 0.3 | E14: 1.6 | F14: 2.7 | G14: 2.5 | H14: 1.3 | I14: 0.4 | J14: 0.2 | K14: 0.2 | L14: 1.5392641 | M14: 1.7532054 | N14: 1.1974833 | O14: 0.255999 | P14: 2.5877505 | Q14: 8.3647489 | R14: 5.4 | S14: 2.3669254 | T14: 2.1357603 | U14: 2.9 | V14: 2.4 | W14: 2.1 | X14: 2 | Y14: 1.99486
B16: EURIBOR 3M (average) | C16: 4.6342327 | D16: 1.2283497 | E16: 0.81095031 | F16: 1.3905997 | G16: 0.57318109 | H16: 0.22066122 | I16: 0.20994567 | J16: -0.0193825 | K16: -0.26369566 | L16: -0.32905612 | M16: -0.32209296 | N16: -0.35631935 | O16: -0.42515962 | P16: -0.54875629 | Q16: 0.34155542 | R16: 3.4324286 | S16: 3.571515 | T16: 2.1792615 | U16: 2.1548675 | V16: 2.9513919 | W16: 3.0998502 | X16: 3.1409039 | Y16: 3.1706859
B17: ECB key rate (average) | C17: 3.8541667 | D17: 1.2291667 | E17: 1 | F17: 1.25 | G17: 0.875 | H17: 0.54166667 | I17: 0.15833333 | J17: 0.05 | K17: 0.0083333333 | L17: 0 | M17: 0 | N17: 0 | O17: 0 | P17: 0 | Q17: 0.57701613 | R17: 3.8025538 | S17: 4.1330152 | T17: 2.4117576 | U17: 2.3394756 | V17: 2.8893669 | W17: 3.0299343 | X17: 3.0696898 | Y17: 3.0986225
B19: 10 year bond yields SK (average) | C19: 4.6087126 | D19: 4.9276557 | E19: 4.1231193 | F19: 4.7745187 | G19: 3.9359903 | H19: 2.9067827 | I19: 2.1738355 | J19: 0.91065391 | K19: 0.58498612 | L19: 0.98035223 | M19: 0.96543572 | N19: 0.32305213 | O19: 0.062895657 | P19: -0.060742534 | Q19: 2.0283489 | R19: 3.6737792 | S19: 3.4779861 | T19: 3.4911425 | U19: 3.800349 | V19: 3.854985 | W19: 3.8574412 | X19: 3.8581779 | Y19: 3.8587744
B20: 10 year bond yields DE (average) | C20: 4.1854322 | D20: 3.6048257 | E20: 3.0118345 | F20: 2.8416613 | G20: 1.6847381 | H20: 1.6985598 | I20: 1.3077586 | J20: 0.55007384 | K20: 0.11484594 | L20: 0.38550352 | M20: 0.48243286 | N20: -0.21688163 | O20: -0.48420785 | P20: -0.33760702 | Q20: 1.1675121 | R20: 2.4546536 | S20: 2.3412109 | T20: 2.657719 | U20: 3.1328915 | V20: 3.1456708 | W20: 3.1640927 | X20: 3.1696179 | Y20: 3.1740918
B22: Oil price (€ per barrel) | C22: 65.984962 | D22: 44.524582 | E22: 60.525422 | F22: 79.620197 | G22: 86.785086 | H22: 81.872996 | I22: 74.583304 | J22: 48.309481 | K22: 40.728176 | L22: 48.567369 | M22: 60.634645 | N22: 57.332828 | O22: 37.840723 | P22: 59.962162 | Q22: 93.9933 | R22: 75.237993 | S22: 73.808335 | T22: 60.643158 | U22: 75.127638 | V22: 66.336875 | W22: 61.580774 | X22: 59.374213 | Y22: 58.159808
B24: Exchange rate, units $ per € (average) | C24: 1.4710045 | D24: 1.3940793 | E24: 1.3271961 | F24: 1.3922486 | G24: 1.2864059 | H24: 1.3284606 | I24: 1.3289352 | J24: 1.1104219 | K24: 1.1068564 | L24: 1.1296893 | M24: 1.1811922 | N24: 1.1194735 | O24: 1.141447 | P24: 1.1833247 | Q24: 1.0539325 | R24: 1.0816933 | S24: 1.0818977 | T24: 1.129931 | U24: 1.1601901 | V24: 1.179375 | W24: 1.1954167 | X24: 1.208125 | Y24: 1.215
B26: Nominal effective exchange rate | C26: -3.6206637 | D26: -7.0928545 | E26: 1.8331555 | F26: 0.42232621 | G26: -1.261715 | H26: -1.6594156 | I26: -2.3518398 | J26: 0.28872172 | K26: -0.11092558 | L26: 0.75632986 | M26: 0.46156051 | N26: -0.22154758 | O26: -1.5721116 | P26: 0.560829 | Q26: 0.61846654 | R26: 1.0521174 | S26: -1.153478 | T26: 0.68003863 | U26: 0.90175391 | V26: 0.51648468 | W26: -0.00047826703 | X26: 0 | Y26: 0
B28: EUR/USD, end of year | C28: 1.3535957 | D28: 1.4568957 | E28: 1.3226957 | F28: 1.3149045 | G28: 1.3126762 | H28: 1.3703 | I28: 1.2306739 | J28: 1.0898652 | K28: 1.0538045 | L28: 1.1837476 | M28: 1.1376095 | N28: 1.1113955 | O28: 1.2172522 | P28: 1.1306826 | Q28: 1.0590227 | R28: 1.0918381 | S28: 1.0463045 | T28: 1.1715696 | U28: 1.16 | V28: 1.19 | W28: 1.2 | X28: 1.215 | Y28: 1.215
B29: EUR/CZK, end of year | C29: 26.138217 | D29: 26.10713 | E29: 25.157174 | F29: 25.525409 | G29: 25.187333 | H29: 27.495864 | I29: 27.63487 | J29: 27.029304 | K29: 27.028773 | L29: 25.66281 | M29: 25.837667 | N29: 25.486 | O29: 26.298087 | P29: 25.23 | Q29: 24.259818 | R29: 24.484667 | S29: 25.123136 | T29: 24.257696 | U29: 24.15 | V29: 24 | W29: 24 | X29: 24 | Y29: 24
... B36: Interest rate on deposits (%) | C36: 2.1359609 | D36: 1.1832958 | E36: 0.94715332 | F36: 1.1651146 | G36: 1.2080151 | H36: 0.98574118 | I36: 0.77154399 | J36: 0.58468775 | K36: 0.41965 | L36: 0.27139167 | M36: 0.21136667 | N36: 0.177875 | O36: 0.13440833 | P36: 0.099233333 | Q36: 0.12 | R36: 0.6575 | S36: 0.99833333 | T36: 0.73583333 | U36: 0.75607424 | V36: 0.84688531 | W36: 0.86369317 | X36: 0.86971363 | Y36: 0.87550776
A39: * | B39: Weighted average of growth of most important trading partners: Eurozone, Czechia, Hungary, Poland

Sheet Gross domestic product
A1: ='Summary indicators'!A1:Q1 -> 76th meeting of the Macroeconomic Forecast Committee, September 15 2026
A2: Gross domestic product
A3: percentual change unless otherwise noted
C5: 2008 | D5: 2009 | E5: 2010 | F5: 2011 | G5: 2012 | H5: 2013 | I5: 2014 | J5: 2015 | K5: 2016 | L5: 2017 | M5: 2018 | N5: 2019 | O5: 2020 | P5: 2021 | Q5: 2022 | R5: 2023 | S5: 2024 | T5: 2025 | U5: 2026 | V5: 2027 | W5: 2028 | X5: 2029 | Y5: 2030
C6: actual | D6: actual | E6: actual | F6: actual | G6: actual | H6: actual | I6: actual | J6: actual | K6: actual | L6: actual | M6: actual | N6: actual | O6: actual | P6: actual | Q6: actual | R6: actual | S6: actual | T6: actual | U6: forecast | V6: forecast | W6: forecast | X6: forecast | Y6: forecast
B8: GDP in constant prices
B10: GDP (bn €) | C10: 75.852819 | D10: 71.676865 | E10: 76.544141 | F10: 78.505527 | G10: 79.737413 | H10: 80.298225 | I10: 82.472662 | J10: 86.742172 | K10: 88.431752 | L10: 90.973929 | M10: 94.669399 | N10: 96.823979 | O10: 94.320583 | P10: 99.655222 | Q10: 100.19794 | R10: 102.31475 | S10: 104.2983 | T10: 105.14043 | U10: 105.94022 | V10: 107.86107 | W10: 109.55655 | X10: 111.8199 | Y10: 114.12291
B11: growth | C11: 5.3633772 | D11: -5.5053379 | E11: 6.7905816 | F11: 2.5624247 | G11: 1.569171 | H11: 0.70332355 | I11: 2.7079515 | J11: 5.1768791 | K11: 1.9478184 | L11: 2.8747333 | M11: 4.0621198 | N11: 2.2758991 | O11: -2.5855124 | P11: 5.6558588 | Q11: 0.54459163 | R11: 2.1126363 | S11: 1.9386745 | T11: 0.80741869 | U11: 0.76068682 | V11: 1.8131466 | W11: 1.5719106 | X11: 2.0659224 | Y11: 2.0595669
B12: Households' consumption (bn €) | C12: 43.414641 | D12: 43.408972 | E12: 43.953911 | F12: 43.155455 | G12: 43.38816 | H12: 42.671632 | I12: 43.440748 | J12: 44.856675 | K12: 46.50433 | L12: 49.369723 | M12: 51.399027 | N12: 52.89131 | O12: 53.280308 | P12: 54.88409 | Q12: 57.526418 | R12: 55.705823 | S12: 57.802521 | T12: 58.022144 | U12: 58.363037 | V12: 59.175077 | W12: 59.494144 | X12: 60.082791 | Y12: 60.854033
B13: growth | C13: 7.1359367 | D13: -0.013057807 | E13: 1.2553603 | F13: -1.8165755 | G13: 0.53922499 | H13: -1.6514367 | I13: 1.8024059 | J13: 3.2594443 | K13: 3.6731546 | L13: 6.1615617 | M13: 4.1104221 | N13: 2.9033293 | O13: 0.73546675 | P13: 3.010084 | Q13: 4.8143788 | R13: -3.1647981 | S13: 3.7638758 | T13: 0.37995402 | U13: 0.58752251 | V13: 1.391359 | W13: 0.53919251 | X13: 0.98941994 | Y13: 1.2836316
B14: NPISHs' consumption (bn €) | C14: 0.627992 | D14: 0.641717 | E14: 0.668775 | F14: 0.692477 | G14: 0.711891 | H14: 0.732431 | I14: 1.083652 | J14: 1.090314 | K14: 1.111527 | L14: 1.067494 | M14: 1.119102 | N14: 1.097645 | O14: 0.924878 | P14: 0.983869 | Q14: 1.093916 | R14: 1.204024 | S14: 1.10324 | T14: 1.023442 | U14: 0.99376818 | V14: 1.0074124 | W14: 1.0128443 | X14: 1.0228656 | Y14: 1.0359954
B15: growth | C15: -0.018308982 | D15: 2.1855374 | E15: 4.2165004 | F15: 3.5440918 | G15: 2.8035588 | H15: 2.8852732 | I15: 47.952776 | J15: 0.61477301 | K15: 1.9455863 | L15: -3.9614872 | M15: 4.8345002 | N15: -1.9173409 | O15: -15.739788 | P15: 6.3782466 | Q15: 11.185127 | R15: 10.065489 | S15: -8.3705973 | T15: -7.233059 | U15: -2.8994141 | V15: 1.3729764 | W15: 0.53919251 | X15: 0.98941994 | Y15: 1.2836316
B16: Public consumption (bn €) | C16: 16.330107 | D16: 17.258759 | E16: 17.637765 | F16: 17.102753 | G16: 17.036776 | H16: 17.254799 | I16: 17.797467 | J16: 18.706494 | K16: 19.155779 | L16: 19.354054 | M16: 19.307911 | N16: 20.221116 | O16: 20.035183 | P16: 20.777176 | Q16: 20.174519 | R16: 19.667974 | S16: 20.44879 | T16: 20.674916 | U16: 20.794552 | V16: 20.946731 | W16: 20.894197 | X16: 21.018232 | Y16: 21.191045
B17: growth | C17: 5.8607992 | D17: 5.6867478 | E17: 2.1960212 | F17: -3.0333322 | G17: -0.3857683 | H17: 1.2797198 | I17: 3.1450265 | J17: 5.1076201 | K17: 2.4017595 | L17: 1.0350662 | M17: -0.23841517 | N17: 4.7296934 | O17: -0.9194992 | P17: 3.7034501 | Q17: -2.9005722 | R17: -2.5108157 | S17: 3.9699869 | T17: 1.105816 | U17: 0.57865196 | V17: 0.73182176 | W17: -0.25079759 | X17: 0.59363488 | Y17: 0.82220575
B18: Gross fixed capital formation (bn €) | C18: 18.771064 | D18: 15.144048 | E18: 16.386861 | F18: 18.54551 | G18: 16.663589 | H18: 16.892633 | I18: 17.364888 | J18: 20.93762 | K18: 19.007017 | L18: 19.017798 | M18: 19.664649 | N18: 20.648779 | O18: 18.657522 | P18: 19.601368 | Q18: 20.452511 | R18: 21.26798 | S18: 21.61863 | T18: 22.099514 | U18: 22.078493 | V18: 21.863406 | W18: 22.184101 | X18: 22.87126 | Y18: 23.390978
B19: growth | C19: 3.4068163 | D19: -19.322378 | E19: 8.2066103 | F19: 13.173048 | G19: -10.147583 | H19: 1.3745178 | I19: 2.7956269 | J19: 20.57446 | K19: -9.2207376 | L19: 0.056721157 | M19: 3.4012928 | N19: 5.0045643 | O19: -9.6434612 | P19: 5.0587961 | Q19: 4.3422633 | R19: 3.9871339 | S19: 1.6487226 | T19: 2.2243963 | U19: -0.095118208 | V19: -0.97419224 | W19: 1.4668112 | X19: 3.0975273 | Y19: 2.2723631
B20: Export of goods and services (bn €) | C20: 52.959695 | D20: 44.2936 | E20: 52.282728 | F20: 57.557808 | G20: 62.858977 | H20: 66.24175 | I20: 68.428551 | J20: 73.049134 | K20: 76.630353 | L20: 79.420994 | M20: 83.770425 | N20: 84.906817 | O20: 79.510689 | P20: 87.987373 | Q20: 90.423525 | R20: 89.815165 | S20: 89.835288 | T20: 93.4132 | U20: 96.269332 | V20: 100.29236 | W20: 103.55274 | X20: 106.40977 | Y20: 109.13901
B21: growth | C21: 3.008149 | D21: -16.363567 | E21: 18.036755 | F21: 10.089527 | G21: 9.2101648 | H21: 5.3815273 | I21: 3.3012428 | J21: 6.7524198 | K21: 4.9024797 | L21: 3.6416914 | M21: 5.4764248 | N21: 1.3565551 | O21: -6.3553531 | P21: 10.661062 | Q21: 2.7687518 | R21: -0.67278952 | S21: 0.022404902 | T21: 3.9827467 | U21: 3.0575248 | V21: 4.1789262 | W21: 3.250876 | X21: 2.7590175 | Y21: 2.5648318
... B23: growth | C23: 4.1371614 | D23: -18.761508 | E23: 17.600647 | F23: 7.1887977 | G23: 2.2104462 | H23: 5.0228719 | I23: 4.0832801 | J23: 9.1385565 | K23: 4.6469757 | L23: 3.7914461 | M23: 5.0275352 | N23: 2.3567029 | O23: -7.9031497 | P23: 11.650255 | Q23: 4.1279728 | R23: -7.678811 | S23: 2.6007971 | T23: 3.7126599 | U23: 3.2203074 | V23: 3.329093 | W23: 2.5906314 | X23: 2.3682236 | Y23: 2.2134444
B26: GDP in current prices
B28: GDP (bn €) | C28: 68.556645 | D28: 64.055141 | E28: 68.726722 | F28: 71.629533 | G28: 73.727607 | H28: 74.642671 | I28: 76.5623 | J28: 80.376307 | K28: 81.621573 | L28: 84.96037 | M28: 90.275851 | N28: 94.547484 | O28: 94.320583 | P28: 101.89157 | Q28: 109.95976 | R28: 123.5387 | S28: 130.20752 | T28: 136.75431 | U28: 143.94213 | V28: 150.66234 | W28: 157.15428 | X28: 163.90661 | Y28: 170.42777
B29: growth | C29: 8.508856 | D29: -6.5661089 | E29: 7.2930618 | F29: 4.2237006 | G29: 2.9290628 | H29: 1.2411416 | I29: 2.5717582 | J29: 4.9815732 | K29: 1.5492949 | L29: 4.0905815 | M29: 6.256424 | N29: 4.731756 | O29: -0.23998629 | P29: 8.0268651 | Q29: 7.9184059 | R29: 12.34901 | S29: 5.3981644 | T29: 5.0279677 | U29: 5.2560072 | V29: 4.6686889 | W29: 4.3089338 | X29: 4.296625 | Y29: 3.9785851
B30: Households' consumption (bn €) | C30: 36.996112 | D30: 37.004756 | E30: 37.833258 | F30: 38.578481 | G30: 40.113717 | H30: 39.960461 | I30: 40.637881 | J30: 41.901202 | K30: 43.296391 | L30: 46.439745 | M30: 49.239615 | N30: 51.811626 | O30: 53.280308 | P30: 56.637432 | Q30: 66.224715 | R30: 70.572801 | S30: 75.366812 | T30: 78.795701 | U30: 82.203151 | V30: 85.719052 | W30: 89.290175 | X30: 92.154613 | Y30: 95.038118
B31: growth | C31: 11.872579 | D31: 0.023364617 | E31: 2.2389068 | F31: 1.9697563 | G31: 3.9795139 | H31: -0.38205385 | I31: 1.6952257 | J31: 3.1087275 | K31: 3.3297112 | L31: 7.2600832 | M31: 6.0290383 | N31: 5.2234588 | O31: 2.8346572 | P31: 6.300872 | Q31: 16.927468 | R31: 6.5656545 | S31: 6.7930009 | T31: 4.5496007 | U31: 4.3244115 | V31: 4.2770875 | W31: 4.1660787 | X31: 3.2080104 | Y31: 3.1289854
B32: NPISHs' consumption (bn €) | C32: 0.49545 | D32: 0.508147 | E32: 0.529133 | F32: 0.556606 | G32: 0.581456 | H32: 0.603757 | I32: 0.894693 | J32: 0.905158 | K32: 0.932085 | L32: 0.921147 | M32: 1.001728 | N32: 1.032954 | O32: 0.924878 | P32: 1.018611 | Q32: 1.249225 | R32: 1.514934 | S32: 1.462555 | T32: 1.42993 | U32: 1.4373401 | V32: 1.4975359 | W32: 1.5599244 | X32: 1.6099669 | Y32: 1.6603425
B33: growth | C33: 3.9742966 | D33: 2.5627208 | E33: 4.1299073 | F33: 5.1920784 | G33: 4.4645584 | H33: 3.8353719 | I33: 48.187599 | J33: 1.169675 | K33: 2.9748398 | L33: -1.1734981 | M33: 8.747898 | N33: 3.1172135 | O33: -10.462809 | P33: 10.134634 | Q33: 22.640046 | R33: 21.269907 | S33: -3.4575104 | T33: -2.2306853 | U33: 0.51821351 | V33: 4.1879975 | W33: 4.1660787 | X33: 3.2080104 | Y33: 3.1289854
B34: Public consumption (bn €) | C34: 12.392041 | D34: 13.167117 | E34: 13.573016 | F34: 13.425647 | G34: 13.624621 | H34: 13.948775 | I34: 14.431774 | J34: 15.274038 | K34: 15.840705 | L34: 16.515623 | M34: 17.174747 | N34: 18.985531 | O34: 20.035183 | P34: 21.584397 | Q34: 23.367086 | R34: 25.107746 | S34: 27.493005 | T34: 29.272827 | U34: 30.630309 | V34: 31.911564 | W34: 32.935109 | X34: 34.325253 | Y34: 35.708556
B35: growth | C35: 10.635034 | D35: 6.2546275 | E35: 3.0826718 | F35: -1.0857498 | G35: 1.482044 | H35: 2.3791781 | I35: 3.4626625 | J35: 5.8361779 | K35: 3.7100012 | L35: 4.2606563 | M35: 3.9909121 | N35: 10.543294 | O35: 5.5286945 | P35: 7.7324674 | Q35: 8.2591559 | R35: 7.4491958 | S35: 9.5000921 | T35: 6.4737267 | U35: 4.6373439 | V35: 4.1829667 | W35: 3.2074402 | X35: 4.2208572 | Y35: 4.0299887
B36: Gross fixed capital formation (bn €) | C36: 17.57116 | D36: 13.899921 | E36: 15.016619 | F36: 17.149183 | G36: 15.51999 | H36: 15.817574 | I36: 16.212933 | J36: 19.547724 | K36: 17.67933 | L36: 18.074065 | M36: 19.269161 | N36: 20.499103 | O36: 18.657522 | P36: 19.968913 | Q36: 23.0257 | R36: 26.111195 | S36: 26.586288 | T36: 28.077732 | U36: 28.606335 | V36: 29.081388 | W36: 30.189634 | X36: 31.861934 | Y36: 33.37406
B37: growth | C37: 6.0282078 | D37: -20.893549 | E37: 8.0338442 | F37: 14.201359 | G37: -9.5001202 | H37: 1.9174239 | I37: 2.499492 | J37: 20.568709 | K37: -9.5581153 | L37: 2.2327486 | M37: 6.6122148 | N37: 6.3829556 | O37: -8.983715 | P37: 7.0287523 | Q37: 15.307729 | R37: 13.400222 | S37: 1.8194993 | T37: 5.6098241 | U37: 1.8826417 | V37: 1.6606547 | W37: 3.8108461 | X37: 5.5393157 | Y37: 4.7458703
B38: Export of goods and services (bn €) | C38: 54.985492 | D38: 43.619025 | E38: 52.975301 | F38: 60.62226 | G38: 67.024929 | H38: 69.327383 | I38: 69.242951 | J38: 72.896367 | K38: 75.346251 | L38: 79.822321 | M38: 85.696006 | N38: 86.836273 | O38: 79.510689 | P38: 92.478685 | Q38: 108.93438 | R38: 113.02995 | S38: 111.30594 | T38: 116.37058 | U38: 122.04421 | V38: 129.81217 | W38: 136.67275 | X38: 143.70892 | Y38: 150.80959
B39: growth | C39: 4.3797412 | D39: -20.671756 | E39: 21.449989 | F39: 14.434951 | G39: 10.561581 | H39: 3.4352203 | I39: -0.12178738 | J39: 5.276228 | K39: 3.3607765 | L39: 5.9406672 | M39: 7.3584493 | N39: 1.3305953 | O39: -8.4360875 | P39: 16.309752 | Q39: 17.794035 | R39: 3.75967 | S39: -1.525263 | T39: 4.5501892 | U39: 4.8754902 | V39: 6.3648753 | W39: 5.2850038 | X39: 5.1481882 | Y39: 4.9410059
... B41: growth | C41: 7.2793339 | D41: -22.060857 | E41: 22.005367 | F41: 12.929478 | G41: 4.7735814 | H41: 3.5516143 | I41: 0.58170373 | J41: 7.9198526 | K41: 3.5103274 | L41: 6.6760845 | M41: 7.5332828 | N41: 2.5796369 | O41: -9.624063 | P41: 18.385962 | Q41: 24.21094 | R41: -3.8004813 | S41: 0.5114653 | T41: 4.438157 | U41: 3.8778674 | V41: 5.4151029 | W41: 5.1705216 | X41: 5.0238314 | Y41: 4.898994
B44: GDP - contributions to growth
B46: Domestic demand | C46: 6.7968118 | D46: -7.4875912 | E46: 6.6790031 | F46: 0.21952562 | G46: -4.3099959 | H46: 0.16422655 | I46: 3.3090445 | J46: 7.0629162 | K46: 1.6818313 | L46: 2.9482453 | M46: 3.5383049 | N46: 3.2377358 | O46: -3.9565633 | P46: 6.3659467 | Q46: 1.7797703 | R46: -5.0379251 | S46: 4.0672033 | T46: 0.56166589 | U46: 1.1195637 | V46: 1.1391821 | W46: 0.86677893 | X46: 1.5802114 | Y46: 1.6070048
B47: Private consumption | C47: 4.0230951 | D47: 0.0092929967 | E47: 0.79663919 | F47: -1.0164775 | G47: 0.31932401 | H47: -0.87791662 | I47: 1.3460771 | J47: 1.7280284 | K47: 1.9254567 | L47: 3.2015333 | M47: 2.2862704 | N47: 1.55701 | O47: 0.23049456 | P47: 1.7628952 | Q47: 2.7620991 | R47: -1.7082508 | S47: 1.9516814 | T47: 0.13274137 | U47: 0.29449591 | V47: 0.77934291 | W47: 0.30083445 | X47: 0.54641944 | Y47: 0.70142461
B48: Public consumption | C48: 1.2558237 | D48: 1.2242815 | E48: 0.52877034 | F48: -0.69895879 | G48: -0.084041217 | H48: 0.27342623 | I48: 0.67581569 | J48: 1.1022162 | K48: 0.51795452 | L48: 0.22421245 | M48: -0.050721125 | N48: 0.96462533 | O48: -0.19203198 | P48: 0.78667135 | Q48: -0.60474202 | R48: -0.50554435 | S48: 0.76315093 | T48: 0.21680698 | U48: 0.11378668 | V48: 0.14364616 | W48: -0.048705151 | X48: 0.11321573 | Y48: 0.15454594
B49: Gross fixed capital formation | C49: 0.85902618 | D49: -4.7816496 | E49: 1.7339109 | F49: 2.8201362 | G49: -2.3971828 | H49: 0.28724784 | I49: 0.58812633 | J49: 4.3320197 | K49: -2.2256798 | L49: 0.012191322 | M49: 0.71102898 | N49: 1.0395439 | O49: -2.0565742 | P49: 1.0006787 | Q49: 0.85408771 | R49: 0.81385808 | S49: 0.34271695 | T49: 0.46106598 | U49: -0.019992939 | V49: -0.20302674 | W49: 0.29732219 | X49: 0.62721819 | Y49: 0.46478137
B50: Changes in inventories | C50: 0.65886682 | D50: -3.9395161 | E50: 3.6196826 | F50: -0.88517422 | G50: -2.1480959 | H50: 0.48146909 | I50: 0.69902541 | J50: -0.099348072 | K50: 1.4640998 | L50: -0.48969176 | M50: 0.59172667 | N50: -0.32344348 | O50: -1.9384516 | P50: 2.8157014 | Q50: -1.2316745 | R50: -3.6379881 | S50: 1.009654 | T50: -0.24894844 | U50: 0.73127404 | V50: 0.41921981 | W50: 0.31732745 | X50: 0.29335801 | Y50: 0.28625287
B52: External demand | C52: -1.0781294 | D52: 3.0362075 | E52: -0.51713199 | F52: 1.6456426 | G52: 5.0668076 | H52: 0.38750818 | I52: -0.54484891 | J52: -1.8097488 | K52: 0.21742942 | L52: -0.11987549 | M52: 0.39877908 | N52: -0.87286706 | O52: 1.3849462 | P52: -0.71008785 | Q52: -1.1863111 | R52: 6.3877034 | S52: -2.1223029 | T52: 0.35291849 | U52: -0.029854529 | V52: 0.88902155 | W52: 0.72578279 | X52: 0.48698173 | Y52: 0.45263995
...

Sheet Supply side
A1: ='Summary indicators'!A1:Q1 -> 76th meeting of the Macroeconomic Forecast Committee, September 15 2026
A2: Supply side
A3: percentual change unless otherwise noted
C5: 2008 | D5: 2009 | E5: 2010 | F5: 2011 | G5: 2012 | H5: 2013 | I5: 2014 | J5: 2015 | K5: 2016 | L5: 2017 | M5: 2018 | N5: 2019 | O5: 2020 | P5: 2021 | Q5: 2022 | R5: 2023 | S5: 2024 | T5: 2025 | U5: 2026 | V5: 2027 | W5: 2028 | X5: 2029 | Y5: 2030
C6: actual | D6: actual | E6: actual | F6: actual | G6: actual | H6: actual | I6: actual | J6: actual | K6: actual | L6: actual | M6: actual | N6: actual | O6: actual | P6: actual | Q6: actual | R6: actual | S6: actual | T6: actual | U6: forecast | V6: forecast | W6: forecast | X6: forecast | Y6: forecast
B8: Nominal labor productivity | C8: 5.1204697 | D8: -4.7009155 | E8: 8.9414557 | F8: 2.4070766 | G8: 2.8769328 | H8: 2.0345836 | I8: 1.1461847 | J8: 2.9464903 | K8: -0.81118419 | L8: 1.843705 | M8: 4.1643172 | N8: 3.6486268 | O8: 1.6778118 | P8: 8.6587797 | Q8: 6.043114 | R8: 12.036942 | S8: 5.5615771 | T8: 5.1678718 | U8: 5.2392523 | V8: 4.6146702 | W8: 4.5236287 | X8: 4.4400515 | Y8: 4.1351805
B10: Real labor productivity | C10: 2.0732142 | D10: -3.6189686 | E10: 8.4312557 | F10: 0.77475682 | G10: 1.5177298 | H10: 1.4925506 | I10: 1.2804852 | J10: 3.1380102 | K10: -0.42192419 | L10: 0.65410175 | M10: 2.0132171 | N10: 1.2181682 | O10: -0.71280501 | P10: 6.2739039 | Q10: -1.2025659 | R10: 1.8290015 | S10: 2.0967235 | T10: 0.94170082 | U10: 0.7446475 | V10: 1.7606017 | W10: 1.780972 | X10: 2.2062812 | Y10: 2.2132722
B12: Unit labor costs | C12: 4.5067158 | D12: 6.4108192 | E12: -2.674825 | F12: 1.3096167 | G12: 0.97503803 | H12: 1.140203 | I12: 0.60564978 | J12: 0.38916127 | K12: 2.6707415 | L12: 4.5429744 | M12: 3.8325015 | N12: 5.4251925 | O12: 4.568665 | P12: 0.62939127 | Q12: 7.1868643 | R12: 8.3839808 | S12: 5.5074451 | T12: 5.2525724 | U12: 3.6690519 | V12: 3.1050833 | W12: 2.2586854 | X12: 2.8191437 | Y12: 2.1002486
B14: Potential employment | C14: 1.1885394 | D14: 0.19238523 | E14: 0.10590762 | F14: 0.97860143 | G14: 0.63680763 | H14: 0.54137638 | I14: 0.97777879 | J14: 1.2990969 | K14: 1.3801127 | L14: 1.252427 | M14: 1.1256967 | N14: 0.72951676 | O14: 0.17480332 | P14: 0.094738926 | Q14: 0.11479568 | R14: -0.060915192 | S14: 0.044830957 | T14: 0.15117128 | U14: 0.18373863 | V14: -0.049051123 | W14: -0.081361892 | X14: -0.26155657 | Y14: -0.33813668
B16: Potential product | C16: 5.3267253 | D16: 2.5707771 | E16: 1.909128 | F16: 2.4625874 | G16: 2.5726173 | H16: 1.6991228 | I16: 1.8983617 | J16: 3.2877144 | K16: 2.5401864 | L16: 1.9008234 | M16: 2.4171107 | N16: 1.7721284 | O16: 2.1691975 | P16: 1.9269802 | Q16: 1.2578453 | R16: 2.1196338 | S16: 1.9297566 | T16: 1.8767727 | U16: 2.0407902 | V16: 1.8254715 | W16: 1.7614323 | X16: 1.7745862 | Y16: 1.823889
B18: Output gap (% of pot. product) | C18: 2.8242479 | D18: -5.2718247 | E18: -0.73433917 | F18: -0.63761683 | G18: -1.6096581 | H18: -2.573059 | I18: -1.798995 | J18: -0.0028677852 | K18: -0.58054475 | L18: 0.36964963 | M18: 1.9817728 | N18: 2.4865812 | O18: -2.282899 | P18: 1.2919661 | Q18: 0.57847204 | R18: 0.57158015 | S18: 0.58037919 | T18: -0.4753672 | U18: -1.7239054 | V18: -1.7358007 | W18: -1.9188092 | X18: -1.6380456 | Y18: -1.4103805

Sheet General government
A1: ='Summary indicators'!A1:Q1 -> 76th meeting of the Macroeconomic Forecast Committee, September 15 2026
A2: General government and drawing of EU funds
A3: percentual change unless otherwise noted
C5: 2008 | D5: 2009 | E5: 2010 | F5: 2011 | G5: 2012 | H5: 2013 | I5: 2014 | J5: 2015 | K5: 2016 | L5: 2017 | M5: 2018 | N5: 2019 | O5: 2020 | P5: 2021 | Q5: 2022 | R5: 2023 | S5: 2024 | T5: 2025 | U5: 2026 | V5: 2027 | W5: 2028 | X5: 2029 | Y5: 2030
C6: actual | D6: actual | E6: actual | F6: actual | G6: actual | H6: actual | I6: actual | J6: actual | K6: actual | L6: actual | M6: actual | N6: actual | O6: actual | P6: actual | Q6: actual | R6: actual | S6: actual | T6: actual | U6: forecast | V6: forecast | W6: forecast | X6: forecast | Y6: forecast
B8: General government
B10: Government final consumption (bn €) | C10: 12.392041 | D10: 13.167117 | E10: 13.573016 | F10: 13.425647 | G10: 13.624621 | H10: 13.948775 | I10: 14.431774 | J10: 15.274038 | K10: 15.840705 | L10: 16.515623 | M10: 17.174747 | N10: 18.985531 | O10: 20.035183 | P10: 21.584397 | Q10: 23.367086 | R10: 25.107746 | S10: 27.493005 | T10: 29.272827 | U10: 30.630309 | V10: 31.911564 | W10: 32.935109 | X10: 34.325253 | Y10: 35.708556
B11: growth | C11: 10.635034 | D11: 6.2546275 | E11: 3.0826718 | F11: -1.0857498 | G11: 1.482044 | H11: 2.3791781 | I11: 3.4626625 | J11: 5.8361779 | K11: 3.7100012 | L11: 4.2606563 | M11: 3.9909121 | N11: 10.543294 | O11: 5.5286945 | P11: 7.7324674 | Q11: 8.2591559 | R11: 7.4491958 | S11: 9.5000921 | T11: 6.4737267 | U11: 4.6373439 | V11: 4.1829667 | W11: 3.2074402 | X11: 4.2208572 | Y11: 4.0299887
B12: Government fixed investments (bn €) | C12: 2.374095 | D12: 2.540331 | E12: 2.513208 | F12: 2.687912 | G12: 2.411357 | H12: 2.532452 | I12: 3.157805 | J12: 5.188484 | K12: 2.782816 | L12: 2.866875 | M12: 3.37074 | N12: 3.388474 | O12: 3.208589 | P12: 3.071564 | Q12: 3.378789 | R12: 4.384679 | S12: 4.624989 | T12: 6.2517973 | U12: 7.336 | V12: 6.7456849 | W12: 6.8934536 | X12: 7.4969713 | Y12: 7.6084152
B13: growth | C13: 11.116129 | D13: 7.0020787 | E13: -1.0676955 | F13: 6.9514342 | G13: -10.288841 | H13: 5.0218611 | I13: 24.693578 | J13: 64.306662 | K13: -46.365528 | L13: 3.0206453 | M13: 17.575409 | N13: 0.52611593 | O13: -5.3087319 | P13: -4.2705688 | Q13: 10.002233 | R13: 29.770726 | S13: 5.4806749 | T13: 35.174318 | U13: 17.342256 | V13: -8.0468251 | W13: 2.1905656 | X13: 8.7549397 | Y13: 1.4865197
B15: Government intermediate consumption (bn €) | C15: 3.346284 | D15: 3.900282 | E15: 4.071869 | F15: 4.205282 | G15: 4.29334 | H15: 4.301865 | I15: 4.391128 | J15: 4.730919 | K15: 4.524993 | L15: 4.837396 | M15: 4.894747 | N15: 5.09242 | O15: 5.154728 | P15: 5.71857 | Q15: 6.59995 | R15: 6.675677 | S15: 7.42296 | T15: 7.843702 | U15: 8.149 | V15: 8.2043105 | W15: 8.2930374 | X15: 8.490267 | Y15: 8.7883739
B16: growth | C16: 1.8839006 | D16: 16.555618 | E16: 4.3993486 | F16: 3.2764561 | G16: 2.0939856 | H16: 0.19856336 | I16: 2.0749838 | J16: 7.7381256 | K16: -4.3527695 | L16: 6.9039444 | M16: 1.1855759 | N16: 4.0384723 | O16: 1.223544 | P16: 10.938346 | Q16: 15.412594 | R16: 1.1473875 | S16: 11.194116 | T16: 5.6681162 | U16: 3.8922692 | V16: 0.6787393 | W16: 1.0814674 | X16: 2.3782557 | Y16: 3.51116
B17: Compensation of employees (bn €) | C17: 5.284542 | D17: 5.671463 | E17: 5.992816 | F17: 6.137166 | G17: 6.278501 | H17: 6.652254 | I17: 6.92392 | J17: 7.273761 | K17: 7.6965 | L17: 8.081536 | M17: 8.524545 | N17: 9.761706 | O17: 10.62039 | P17: 11.41135 | Q17: 11.895741 | R17: 13.55098 | S17: 14.847296 | T17: 16.049918 | U17: 16.875024 | V17: 17.644395 | W17: 18.175508 | X17: 18.877244 | Y17: 19.540187
B18: growth | C18: 11.356644 | D18: 7.3217509 | E18: 5.6661394 | F18: 2.4087174 | G18: 2.3029359 | H18: 5.9529018 | I18: 4.0838188 | J18: 5.0526436 | K18: 5.8118352 | L18: 5.0027415 | M18: 5.4817426 | N18: 14.512927 | O18: 8.7964542 | P18: 7.4475608 | Q18: 4.2448177 | R18: 13.914551 | S18: 9.5662159 | T18: 8.0999395 | U18: 5.140876 | V18: 4.5592264 | W18: 3.0100962 | X18: 3.8608852 | Y18: 3.5118654
B19: Other taxes on production (bn €) | C19: 0.062555 | D19: 0.067954 | E19: 0.075835 | F19: 0.078894 | G19: 0.089799 | H19: 0.093698 | I19: 0.080685 | J19: 0.102843 | K19: 0.108236 | L19: 0.063568 | M19: 0.125415 | N19: 0.134567 | O19: 0.134598 | P19: 0.1479 | Q19: 0.120628 | R19: 0.0958 | S19: 0.140878 | T19: 0.151576 | U19: 0.1467376 | V19: 0.158764 | W19: 0.16385626 | X19: 0.1707724 | Y19: 0.17765451
B20: growth | C20: -48.554628 | D20: 8.6308049 | E20: 11.597551 | F20: 4.0337575 | G20: 13.822344 | H20: 4.3419192 | I20: -13.888237 | J20: 27.462354 | K20: 5.2439155 | L20: -41.269079 | M20: 97.292663 | N20: 7.2973727 | O20: 0.023036852 | P20: 9.882762 | Q20: -18.439486 | R20: -20.582286 | S20: 47.05428 | T20: 7.5938046 | U20: -3.1920593 | V20: 8.1958522 | W20: 3.2074402 | X20: 4.2208572 | Y20: 4.0299887
B21: Social transfers in kind (bn €) | C21: 2.547005 | D21: 2.332707 | E21: 2.49123 | F21: 2.420943 | G21: 2.407102 | H21: 2.4267 | I21: 2.619975 | J21: 2.689661 | K21: 2.803048 | L21: 2.830208 | M21: 2.925366 | N21: 3.204066 | O21: 3.129982 | P21: 3.484239 | Q21: 3.815507 | R21: 4.290565 | S21: 4.889137 | T21: 5.262367 | U21: 5.425 | V21: 5.6980746 | W21: 5.896838 | X21: 6.1139207 | Y21: 6.2640268
B22: growth | C22: 30.226564 | D22: -8.4137251 | E22: 6.795667 | F22: -2.8213774 | G22: -0.57171937 | H22: 0.81417406 | I22: 7.9645197 | J22: 2.6597964 | K22: 4.2156614 | L22: 0.96894523 | M22: 3.3622264 | N22: 9.527013 | O22: -2.3121871 | P22: 11.31818 | Q22: 9.5076141 | R22: 12.450718 | S22: 13.95089 | T22: 7.6338626 | U22: 3.0904914 | V22: 5.0336329 | W22: 3.4882561 | X22: 3.6813406 | Y22: 2.4551526
... B26: growth | C26: 2.9083713 | D26: 0.51866191 | E26: 0.2092358 | F26: -0.070132541 | G26: 12.811645 | H26: 2.6541189 | I26: 0.21271027 | J26: 4.1101148 | K26: 5.5239007 | L26: 2.8296457 | M26: 1.2511653 | N26: 6.6589196 | O26: 0.35691602 | P26: 1.1555035 | Q26: 12.863561 | R26: 0.75387944 | S26: -1.7406439 | T26: -0.078304225 | U26: 4.5105387 | V26: 8.6033915 | W26: 8.4443778 | X26: 8.5240039 | Y26: 7.8342362
B29: Drawing of EU funds
B31: EU funds total (mil €) | C31: - | D31: - | E31: - | F31: - | G31: - | H31: - | I31: - | J31: - | K31: - | L31: - | M31: - | N31: - | O31: ='General government'!O32+'General government'!O33 -> 2463.474 | P31: ='General government'!P32+'General government'!P33 -> 2631.3333 | Q31: ='General government'!Q32+'General government'!Q33 -> 2613.0205 | R31: ='General government'!R32+'General government'!R33 -> 5522.6359 | S31: ='General government'!S32+'General government'!S33 -> 1654.1579 | T31: ='General government'!T32+'General government'!T33 -> 2291.2186 | U31: ='General government'!U32+'General government'!U33 -> 2377.6542 | V31: ='General government'!V32+'General government'!V33 -> 2469.0983 | ... Y31: ='General government'!Y32+'General government'!Y33 -> 4960.0326
B32: - within GG sector | C32: - | D32: - | E32: - | F32: - | G32: - | H32: - | I32: - | J32: - | K32: - | L32: - | M32: - | N32: - | O32: ='General government'!O36+'General government'!O40 -> 1375.2823 | P32: ='General government'!P36+'General government'!P40 -> 1503.7749 | Q32: ='General government'!Q36+'General government'!Q40 -> 1526.6517 | R32: ='General government'!R36+'General government'!R40 -> 3266.233 | S32: ='General government'!S36+'General government'!S40 -> 665.92016 | T32: ='General government'!T36+'General government'!T40 -> 1301.4931 | U32: ='General government'!U36+'General government'!U40 -> 1386.6833 | V32: ='General government'!V36+'General government'!V40 -> 1440.4329 | ... Y32: ='General government'!Y36+'General government'!Y40 -> 2893.6046
B33: - outside of GG sector | C33: - | D33: - | E33: - | F33: - | G33: - | H33: - | I33: - | J33: - | K33: - | L33: - | M33: - | N33: - | O33: ='General government'!O37+'General government'!O41 -> 1088.1916 | P33: ='General government'!P37+'General government'!P41 -> 1127.5584 | Q33: ='General government'!Q37+'General government'!Q41 -> 1086.3689 | R33: ='General government'!R37+'General government'!R41 -> 2256.403 | S33: ='General government'!S37+'General government'!S41 -> 988.23778 | T33: ='General government'!T37+'General government'!T41 -> 989.7255 | U33: ='General government'!U37+'General government'!U41 -> 990.9709 | V33: ='General government'!V37+'General government'!V41 -> 1028.6653 | ... Y33: ='General government'!Y37+'General government'!Y41 -> 2066.4279
B35: Current expenditures (mil €) | C35: - | D35: - | E35: - | F35: - | G35: - | H35: - | I35: - | J35: - | K35: - | L35: - | M35: - | N35: - | O35: ='General government'!O36+'General government'!O37 -> 1224.8779 | P35: ='General government'!P36+'General government'!P37 -> 1392.935 | Q35: ='General government'!Q36+'General government'!Q37 -> 1234.6165 | R35: ='General government'!R36+'General government'!R37 -> 2105.6479 | S35: ='General government'!S36+'General government'!S37 -> 991.75586 | T35: ='General government'!T36+'General government'!T37 -> 1180.6868 | U35: ='General government'!U36+'General government'!U37 -> 1190.8455 | V35: ='General government'!V36+'General government'!V37 -> 1236.6056 | ... Y35: ='General government'!Y36+'General government'!Y37 -> 2484.1475
B36: - within GG sector | C36: - | D36: - | E36: - | F36: - | G36: - | H36: - | I36: - | J36: - | K36: - | L36: - | M36: - | N36: - | O36: 763.51239 | P36: 862.99149 | Q36: 739.59849 | R36: 1114.3348 | S36: 503.18291 | T36: 788.21609 | U36: 744.72345 | V36: 773.58986 | W36: 857.48526 | X36: 1191.5005 | Y36: 1554.0211
B37: - outside of GG sector | C37: - | D37: - | E37: - | F37: - | G37: - | H37: - | I37: - | J37: - | K37: - | L37: - | M37: - | N37: - | O37: 461.3655 | P37: 529.94354 | Q37: 495.01799 | R37: 991.31312 | S37: 488.57296 | T37: 392.47067 | U37: 446.12202 | V37: 463.01576 | W37: 513.22957 | X37: 713.14728 | Y37: 930.12631
B39: Capital expenditures (mil €) | C39: - | D39: - | E39: - | F39: - | G39: - | H39: - | I39: - | J39: - | K39: - | L39: - | M39: - | N39: - | O39: ='General government'!O40+'General government'!O41 -> 1238.5961 | P39: ='General government'!P40+'General government'!P41 -> 1238.3983 | Q39: ='General government'!Q40+'General government'!Q41 -> 1378.404 | R39: ='General government'!R40+'General government'!R41 -> 3416.988 | S39: ='General government'!S40+'General government'!S41 -> 662.40208 | T39: ='General government'!T40+'General government'!T41 -> 1110.5318 | U39: ='General government'!U40+'General government'!U41 -> 1186.8088 | V39: ='General government'!V40+'General government'!V41 -> 1232.4926 | ... Y39: ='General government'!Y40+'General government'!Y41 -> 2475.8851
B40: - within GG sector | C40: - | D40: - | E40: - | F40: - | G40: - | H40: - | I40: - | J40: - | K40: - | L40: - | M40: - | N40: - | O40: 611.76993 | P40: 640.78342 | Q40: 787.05318 | R40: 2151.8982 | S40: 162.73725 | T40: 513.27698 | U40: 641.95989 | V40: 666.84306 | W40: 739.16182 | X40: 1027.0867 | Y40: 1339.5835
B41: - outside of GG sector | C41: - | D41: - | E41: - | F41: - | G41: - | H41: - | I41: - | J41: - | K41: - | L41: - | M41: - | N41: - | O41: 626.82615 | P41: 597.61484 | Q41: 591.35087 | R41: 1265.0898 | S41: 499.66483 | T41: 597.25483 | U41: 544.84888 | V41: 565.64958 | W41: 626.99397 | X41: 871.22619 | Y41: 1136.3016
B44: Cofinancing of EU funds
B46: EU funds total (mil €) | C46: - | D46: - | E46: - | F46: - | G46: - | H46: - | I46: - | J46: - | K46: - | L46: - | M46: - | N46: - | O46: - | P46: - | Q46: =Q47+Q48 -> 458.78363 | R46: =R47+R48 -> 840.81917 | S46: =S47+S48 -> 352.34816 | T46: =T47+T48 -> 406.84751 | U46: =U47+U48 -> 486.45881 | V46: =V47+V48 -> 456.69815 | W46: =W47+W48 -> 513.99648 | X46: =X47+X48 -> 772.65962 | Y46: =Y47+Y48 -> 1049.2815
B47: - within GG sector | C47: - | D47: - | E47: - | F47: - | G47: - | H47: - | I47: - | J47: - | K47: - | L47: - | M47: - | N47: - | O47: - | P47: - | Q47: =Q51+Q55 -> 324.32777 | R47: =R51+R55 -> 599.09358 | S47: =S51+S55 -> 132.64568 | T47: =T51+T55 -> 274.10772 | U47: =U51+U55 -> 316.72177 | V47: =V51+V55 -> 297.34531 | W47: =W51+W55 -> 334.65089 | X47: =X51+X55 -> 503.06031 | Y47: =Y51+Y55 -> 683.16226
B48: - outside of GG sector | C48: - | D48: - | E48: - | F48: - | G48: - | H48: - | I48: - | J48: - | K48: - | L48: - | M48: - | N48: - | O48: - | P48: - | Q48: =Q52+Q56 -> 134.45586 | R48: =R52+R56 -> 241.72559 | S48: =S52+S56 -> 219.70247 | T48: =T52+T56 -> 132.73979 | U48: =U52+U56 -> 169.73704 | V48: =V52+V56 -> 159.35284 | W48: =W52+W56 -> 179.34559 | X48: =X52+X56 -> 269.59931 | Y48: =Y52+Y56 -> 366.11927
B50: Current expenditures (mil €) | C50: - | D50: - | E50: - | F50: - | G50: - | H50: - | I50: - | J50: - | K50: - | L50: - | M50: - | N50: - | O50: - | P50: - | Q50: =Q51+Q52 -> 240.35658 | R50: =R51+R52 -> 342.57268 | S50: =S51+S52 -> 179.64808 | T50: =T51+T52 -> 271.84477 | U50: =U51+U52 -> 240.63799 | V50: =V51+V52 -> 225.9162 | W50: =W51+W52 -> 254.26013 | X50: =X51+X52 -> 382.21378 | Y50: =Y51+Y52 -> 519.05114
B51: - within GG sector | C51: - | D51: - | E51: - | F51: - | G51: - | H51: - | I51: - | J51: - | K51: - | L51: - | M51: - | N51: - | O51: - | P51: - | Q51: 179.10643 | R51: 257.45942 | S51: 102.97313 | T51: 191.65618 | U51: 168.30577 | V51: 158.00913 | W51: 177.83329 | X51: 267.32596 | Y51: 363.03204
B52: - outside of GG sector | C52: - | D52: - | E52: - | F52: - | G52: - | H52: - | I52: - | J52: - | K52: - | L52: - | M52: - | N52: - | O52: - | P52: - | Q52: 61.250152 | R52: 85.113261 | S52: 76.674953 | T52: 80.188593 | U52: 72.332225 | V52: 67.907071 | W52: 76.426839 | X52: 114.88781 | Y52: 156.0191
B54: Capital expenditures (mil €) | C54: - | D54: - | E54: - | F54: - | G54: - | H54: - | I54: - | J54: - | K54: - | L54: - | M54: - | N54: - | O54: - | P54: - | Q54: =Q55+Q56 -> 218.42704 | R54: =R55+R56 -> 498.24649 | S54: =S55+S56 -> 172.70007 | T54: =T55+T56 -> 135.00274 | U54: =U55+U56 -> 245.82082 | V54: =V55+V56 -> 230.78195 | W54: =W55+W56 -> 259.73635 | X54: =X55+X56 -> 390.44584 | Y54: =Y55+Y56 -> 530.23038
B55: - within GG sector | C55: - | D55: - | E55: - | F55: - | G55: - | H55: - | I55: - | J55: - | K55: - | L55: - | M55: - | N55: - | O55: - | P55: - | Q55: 145.22134 | R55: 341.63416 | S55: 29.672553 | T55: 82.451539 | U55: 148.416 | V55: 139.33618 | W55: 156.8176 | X55: 235.73435 | Y55: 320.13022
B56: - outside of GG sector | C56: - | D56: - | E56: - | F56: - | G56: - | H56: - | I56: - | J56: - | K56: - | L56: - | M56: - | N56: - | O56: - | P56: - | Q56: 73.205705 | R56: 156.61233 | S56: 143.02752 | T56: 52.5512 | U56: 97.404816 | V56: 91.445768 | W56: 102.91875 | X56: 154.71149 | Y56: 210.10016
B59: Drawing of RRP funds incl. VAT (mil. EUR)
...

Sheet Households
A1: ='Summary indicators'!A1:Q1 -> 76th meeting of the Macroeconomic Forecast Committee, September 15 2026
A2: Households
A3: percentual change unless otherwise noted
C5: 2008 | D5: 2009 | E5: 2010 | F5: 2011 | G5: 2012 | H5: 2013 | I5: 2014 | J5: 2015 | K5: 2016 | L5: 2017 | M5: 2018 | N5: 2019 | O5: 2020 | P5: 2021 | Q5: 2022 | R5: 2023 | S5: 2024 | T5: 2025 | U5: 2026 | V5: 2027 | W5: 2028 | X5: 2029 | Y5: 2030
C6: actual | D6: actual | E6: actual | F6: actual | G6: actual | H6: actual | I6: actual | J6: actual | K6: actual | L6: actual | M6: actual | N6: actual | O6: actual | P6: actual | Q6: actual | R6: actual | S6: actual | T6: actual | U6: forecast | V6: forecast | W6: forecast | X6: forecast | Y6: forecast
B8: Gross disposable income, current prices (bn €) | C8: 39.353497 | D8: 39.878502 | E8: 41.193637 | F8: 41.396536 | G8: 42.512808 | H8: 42.652054 | I8: 43.47323 | J8: 45.806092 | K8: 47.219548 | L8: 49.417407 | M8: 54.196268 | N8: 56.692756 | O8: 59.387571 | P8: 62.737705 | Q8: 68.885545 | R8: 74.860021 | S8: 80.605595 | T8: 83.038341 | U8: 85.960537 | V8: 89.838312 | W8: 92.964074 | X8: 96.299298 | Y8: 99.563481
B9: growth | C9: 11.646368 | D9: 1.3340746 | E9: 3.2978546 | F9: 0.49254937 | G9: 2.6965348 | H9: 0.32753894 | I9: 1.9252906 | J9: 5.3662035 | K9: 3.085738 | L9: 4.6545532 | M9: 9.6704001 | N9: 4.6063836 | O9: 4.7533674 | P9: 5.6411366 | Q9: 9.7992746 | R9: 8.6730474 | S9: 7.67509 | T9: 3.0180859 | U9: 3.5190922 | V9: 4.5111112 | W9: 3.4793192 | X9: 3.5876482 | Y9: 3.3896231
B10: Net disposable income per member of household, current prices (Q1 t/Q1 t-1) | C10: 327.43 | D10: 339.91 | E10: 340.14 | F10: 348.32 | G10: 357.02 | H10: 373.47 | I10: 384.12 | J10: 420.1 | K10: 427.08 | L10: 448.36 | M10: 476.4 | N10: 504.06 | O10: 530.65 | P10: 545.18 | Q10: 585.86 | R10: 657.28729 | S10: 713.4184 | T10: 740.27091 | U10: 761.67956 | V10: 792.67769 | W10: 819.18028 | X10: 852.7688 | Y10: 877.52376
B11: growth | C11: 11.401062 | D11: 3.8115017 | E11: 0.06766497 | F11: 2.4048921 | G11: 2.4977033 | H11: 4.607585 | I11: 2.8516347 | J11: 9.3668645 | K11: 1.6615092 | L11: 4.982673 | M11: 6.2539031 | N11: 5.8060453 | O11: 5.2751657 | P11: 2.7381513 | Q11: 7.4617558 | R11: 12.19187 | S11: 8.5398142 | T11: 3.7639208 | U11: 2.8920021 | V11: 4.0697075 | W11: 3.3434264 | X11: 4.1002592 | Y11: 2.9028927
B13: Gross disposable income, constant prices (bn €) | C13: 46.181013 | D13: 46.780062 | E13: 47.857931 | F13: 46.307846 | G13: 45.983086 | H13: 45.54584 | I13: 46.471656 | J13: 49.036994 | K13: 50.718164 | L13: 52.535252 | M13: 56.573055 | N13: 57.874156 | O13: 59.387571 | P13: 60.795515 | Q13: 59.837761 | R13: 59.08989 | S13: 61.820402 | T13: 61.146262 | U13: 61.030726 | V13: 62.018756 | W13: 61.942067 | X13: 62.785035 | Y13: 63.751677
B14: growth | C14: =100*((1+Households!C9/100)/(1+'Price inflation'!C30/100)-1) -> 6.925118 | D14: =(D13/C13-1)*100 -> 1.2971749 | E14: =(E13/D13-1)*100 -> 2.3041209 | F14: =(F13/E13-1)*100 -> -3.238931 | G14: =(G13/F13-1)*100 -> -0.70130514 | H14: =(H13/G13-1)*100 -> -0.95088591 | I14: =(I13/H13-1)*100 -> 2.0327133 | J14: =(J13/I13-1)*100 -> 5.5202201 | K14: =(K13/J13-1)*100 -> 3.4283705 | ... Y14: =(Y13/X13-1)*100 -> 1.5396056
B15: Net disposable income per member of household, constant prices (Q1 t/Q1 t-1) | C15: 384.23648 | D15: 398.73641 | E15: 395.16775 | F15: 389.64489 | G15: 386.16319 | H15: 398.80857 | I15: 410.61344 | J15: 449.73147 | K15: 458.72344 | L15: 476.64794 | M15: 497.29261 | N15: 514.56393 | O15: 530.65 | P15: 528.3027 | Q15: 508.91011 | R15: 518.82211 | S15: 547.15572 | T15: 545.10722 | U15: 540.78136 | V15: 547.21514 | W15: 545.82074 | X15: 555.98659 | Y15: 561.88886
B16: growth | C16: =100*((1+Households!C11/100)/(1+'Price inflation'!C10/100)-1) -> 6.5145666 | D16: =100*((1+Households!D11/100)/(1+'Price inflation'!D10/100)-1) -> 2.1529019 | E16: =100*((1+Households!E11/100)/(1+'Price inflation'!E10/100)-1) -> -0.88689231 | F16: =100*((1+Households!F11/100)/(1+'Price inflation'!F10/100)-1) -> -1.4473021 | G16: =100*((1+Households!G11/100)/(1+'Price inflation'!G10/100)-1) -> -1.0783502 | H16: =100*((1+Households!H11/100)/(1+'Price inflation'!H10/100)-1) -> 3.1745171 | I16: =100*((1+Households!I11/100)/(1+'Price inflation'!I10/100)-1) -> 2.9227088 | J16: =100*((1+Households!J11/100)/(1+'Price inflation'!J10/100)-1) -> 9.7275941 | ... Y16: =100*((1+Households!Y11/100)/(1+'Price inflation'!Y10/100)-1) -> 0.7908627
B18: Wage base, current prices (bn €) | C18: 19.781126 | D18: 19.459195 | E18: 19.858008 | F18: 20.680125 | G18: 21.193772 | H18: 21.516815 | I18: 22.69903 | J18: 23.858285 | K18: 25.247461 | L18: 26.890545 | M18: 29.086947 | N18: 31.660152 | O18: 32.25029 | P18: 34.224415 | Q18: 37.475415 | R18: 41.170152 | S18: 43.774248 | T18: 46.45448 | U18: 48.484572 | V18: 50.631364 | W18: 52.755238 | X18: 54.937287 | Y18: 57.048525
B19: growth | C19: 10.856605 | D19: -1.6274649 | E19: 2.0494815 | F19: 4.1399762 | G19: 2.4837756 | H19: 1.5242313 | I19: 5.4943799 | J19: 5.1070669 | K19: 5.8226139 | L19: 6.5079194 | M19: 8.1679333 | N19: 8.8465975 | O19: 1.8639773 | P19: 6.1212631 | Q19: 9.4990662 | R19: 9.859096 | S19: 6.3252046 | T19: 6.1228507 | U19: 4.3700663 | V19: 4.4277853 | W19: 4.1947793 | X19: 4.1361751 | Y19: 3.8429951
B20: Compensation per employee, current prices (bn €) | C20: 12.769673 | D20: 13.098658 | E20: 13.82586 | F20: 14.114745 | G20: 14.46848 | H20: 14.8519 | I20: 15.134422 | J20: 15.669496 | K20: 16.019759 | L20: 16.857658 | M20: 17.854626 | N20: 19.052491 | O20: 19.779886 | P20: 21.153333 | Q20: 22.40377 | R20: 24.723436 | S20: 26.633133 | T20: 28.296877 | U20: 29.553228 | V20: 31.00679 | W20: 32.271775 | X20: 33.913262 | Y20: 35.391781
B21: growth | C21: 6.660924 | D21: 2.5762959 | E21: 5.5517285 | F21: 2.0894591 | G21: 2.5061374 | H21: 2.6500333 | I21: 1.9022622 | J21: 3.5354755 | K21: 2.2353178 | L21: 5.2304123 | M21: 5.9140338 | N21: 6.7089932 | O21: 3.8178439 | P21: 6.9436578 | Q21: 5.9112969 | R21: 10.353909 | S21: 7.7242379 | T21: 6.2468991 | U21: 4.4398898 | V21: 4.9184539 | W21: 4.0797042 | X21: 5.0864496 | Y21: 4.3597049
B23: Wage base, constant prices (bn €) | C23: 23.85695 | D23: 23.093726 | E23: 23.342219 | F23: 23.394159 | G23: 23.138743 | H23: 23.169611 | I23: 24.459528 | J23: 25.793489 | K23: 27.437877 | L23: 28.846094 | M23: 30.442909 | N23: 32.271985 | O23: 32.25029 | P23: 33.17593 | Q23: 32.211013 | R23: 32.013391 | S23: 33.12241 | T23: 33.801325 | U23: 34.03114 | V23: 34.53583 | W23: 34.475076 | X23: 35.104944 | Y23: 35.705825
B24: growth | C24: =100*((1+Households!C19/100)/(1+'Price inflation'!C10/100)-1) -> 5.9939922 | D24: =(D23/C23-1)*100 -> -3.1991661 | E24: =(E23/D23-1)*100 -> 1.0760195 | F24: =(F23/E23-1)*100 -> 0.22251279 | G24: =(G23/F23-1)*100 -> -1.0917919 | H24: =(H23/G23-1)*100 -> 0.13340369 | I24: =(I23/H23-1)*100 -> 5.5672803 | J24: =(J23/I23-1)*100 -> 5.4537463 | K24: =(K23/J23-1)*100 -> 6.3752082 | ... S24: =(S23/R23-1)*100 -> 3.4642333 | T24: =100*((1+Households!T19/100)/(1+'Price inflation'!T10/100)-1) -> 2.0497146 | U24: =100*((1+Households!U19/100)/(1+'Price inflation'!U10/100)-1) -> 0.67990094 | V24: =100*((1+Households!V19/100)/(1+'Price inflation'!V10/100)-1) -> 1.4830248 | W24: =100*((1+Households!W19/100)/(1+'Price inflation'!W10/100)-1) -> -0.17591642 | X24: =100*((1+Households!X19/100)/(1+'Price inflation'!X10/100)-1) -> 1.8270234 | Y24: =100*((1+Households!Y19/100)/(1+'Price inflation'!Y10/100)-1) -> 1.7116699
B25: Compensation per employee, constant prices (bn €) | C25: 15.400814 | D25: 15.545186 | E25: 16.251693 | F25: 15.967147 | G25: 15.796265 | H25: 15.992736 | I25: 16.308222 | J25: 16.940487 | K25: 17.409599 | L25: 18.08359 | M25: 18.686965 | N25: 19.420681 | O25: 19.779886 | P25: 20.505289 | Q25: 19.256574 | R25: 19.224632 | S25: 20.15234 | T25: 20.589445 | U25: 20.7433 | V25: 21.149839 | W25: 21.089316 | X25: 21.670585 | Y25: 22.15119
B26: growth | C26: =100*((1+Households!C21/100)/(1+'Price inflation'!C10/100)-1) -> 1.9823504 | D26: =(D25/C25-1)*100 -> 0.93743103 | E26: =(E25/D25-1)*100 -> 4.5448581 | F26: =(F25/E25-1)*100 -> -1.7508695 | G26: =(G25/F25-1)*100 -> -1.0702104 | H26: =(H25/G25-1)*100 -> 1.2437828 | I26: =(I25/H25-1)*100 -> 1.9726803 | J26: =(J25/I25-1)*100 -> 3.8769712 | K26: =(K25/J25-1)*100 -> 2.7691796 | ... S26: =(S25/R25-1)*100 -> 4.8256218 | T26: =100*((1+Households!T21/100)/(1+'Price inflation'!T10/100)-1) -> 2.1690018 | U26: =100*((1+Households!U21/100)/(1+'Price inflation'!U10/100)-1) -> 0.74725578 | V26: =100*((1+Households!V21/100)/(1+'Price inflation'!V10/100)-1) -> 1.959857 | W26: =100*((1+Households!W21/100)/(1+'Price inflation'!W10/100)-1) -> -0.28616447 | X26: =100*((1+Households!X21/100)/(1+'Price inflation'!X10/100)-1) -> 2.7562261 | Y26: =100*((1+Households!Y21/100)/(1+'Price inflation'!Y10/100)-1) -> 2.2177745
B28: Saving rate (% of disposable income) | C28: 8.4505236 | D28: 9.2941274 | E28: 10.228843 | F28: 8.9869232 | G28: 8.1814112 | H28: 7.4897761 | I28: 8.6029486 | J28: 9.6294149 | K28: 9.8402551 | L28: 7.4718929 | M28: 10.458353 | N28: 9.9227222 | O28: 11.675213 | P28: 11.283213 | Q28: 5.8830462 | R28: 7.664767 | S28: 8.0677381 | T28: 7.0700625 | U28: 6.5818642 | V28: 6.7645302 | W28: 6.159159 | X28: 6.5210026 | Y28: 6.7694019

Sheet Labor market
A1: ='Summary indicators'!A1:Q1 -> 76th meeting of the Macroeconomic Forecast Committee, September 15 2026
A2: Labor market
A3: percentual change unless otherwise noted
C5: 2008 | D5: 2009 | E5: 2010 | F5: 2011 | G5: 2012 | H5: 2013 | I5: 2014 | J5: 2015 | K5: 2016 | L5: 2017 | M5: 2018 | N5: 2019 | O5: 2020 | P5: 2021 | Q5: 2022 | R5: 2023 | S5: 2024 | T5: 2025 | U5: 2026 | V5: 2027 | W5: 2028 | X5: 2029 | Y5: 2030
C6: actual | D6: actual | E6: actual | F6: actual | G6: actual | H6: actual | I6: actual | J6: actual | K6: actual | L6: actual | M6: actual | N6: actual | O6: actual | P6: actual | Q6: actual | R6: actual | S6: actual | T6: actual | U6: forecast | V6: forecast | W6: forecast | X6: forecast | Y6: forecast
B8: Employment
B10: Employment (ESA), thousand persons | C10: 2247.139 | D10: 2203.158 | E10: 2169.822 | F10: 2208.313 | G10: 2209.432 | H10: 2192.251 | I10: 2223.149 | J10: 2267.097 | K10: 2321.049 | L10: 2372.256 | M10: 2419.902 | N10: 2445.19 | O10: 2399.07 | P10: 2385.118 | Q10: 2427.297 | R10: 2434.058 | S10: 2430.29 | T10: 2427.057 | U10: 2427.4434 | V10: 2428.6968 | W10: 2423.7082 | X10: 2420.3798 | Y10: 2416.7401
B11: growth | C11: 3.2233363 | D11: -1.9571998 | E11: -1.5131007 | F11: 1.7739243 | G11: 0.050672165 | H11: -0.77762067 | I11: 1.4094189 | J11: 1.9768356 | K11: 2.3797835 | L11: 2.2062007 | M11: 2.0084679 | N11: 1.045001 | O11: -1.886152 | P11: -0.58155869 | Q11: 1.768424 | R11: 0.27854029 | S11: -0.15480321 | T11: -0.13302939 | U11: 0.015920763 | V11: 0.051635804 | W11: -0.20540327 | X11: -0.13732897 | Y11: -0.15037705
B12: Private sector (ESA), thousand persons | C12: 1801.582 | D12: 1756.651 | E12: 1719.903 | F12: 1758.619 | G12: 1762.552 | H12: 1746.084 | I12: 1764.281 | J12: 1801.609 | K12: 1850.482 | L12: 1896.194 | M12: 1939.963 | N12: 1957.957 | O12: 1909.292 | P12: 1894.269 | Q12: 1926.907 | R12: 1931.205 | S12: 1921.002 | T12: 1909.808 | U12: 1907.5924 | V12: 1908.8445 | W12: 1905.3144 | X12: 1903.5136 | Y12: 1901.022
B13: growth | C13: 3.8532021 | D13: -2.4939747 | E13: -2.0919352 | F13: 2.2510572 | G13: 0.22364139 | H13: -0.93432704 | I13: 1.0421606 | J13: 2.1157627 | K13: 2.7127418 | L13: 2.4702753 | M13: 2.3082554 | N13: 0.92754346 | O13: -2.4854989 | P13: -0.78683617 | Q13: 1.7229865 | R13: 0.22305176 | S13: -0.52832299 | T13: -0.58271673 | U13: -0.11601135 | V13: 0.065638241 | W13: -0.18493563 | X13: -0.094516093 | Y13: -0.13089077
