Workbook

Sheet Obsah
B2: Povinné tabuľky
B3: TABUĽKA 1a – Fiškálne záväzky
B4: TABUĽKA 1b – Hlavné ukazovatele
B5: TABUĽKA 2 – Makroekonomický scenár
B6: TABUĽKA 3 – Externé predpoklady
B7: TABUĽKA 4 – Rozpočtový výhľad
B8: TABUĽKA 5 – Rozpočtový výhľad pri nezmenených politikách
B9: TABUĽKA 6 – Granty z Plánu obnovy a odolnosti

Sheet T1a
B2: TABUĽKA 1a – Fiškálne záväzky | C2: 2025 | D2: 2026 | E2: 2027
B3: Odporúčanie Rady EÚ | C3: rast v % | D3: rast v % | E3: rast v %
B4: 1a. Čisté národne financované primárne výdavky (NFPE) | C4: 3.8497009 | D4: 0.8510839 | E4: 1.6147914
B5: Skutočnosť / prognóza | C5: rast v % | D5: rast v % | E5: rast v %
B6: 1b. Čisté národne financované primárne výdavky (NFPE) | C6: ='T4'!E36 -> 1.55023 | D6: ='T4'!F36 -> 2.4716653 | E6: ='T4'!G36 -> 4.6611792

Sheet T1b
B2: TABUĽKA 1b – Hlavné ukazovatele | C2: 2025 | D2: 2026 | E2: 2027
C3: % HDP | D3: % HDP | E3: % HDP
B4: 1. Čisté pôžičky poskytnuté / prijaté | C4: ='T4'!E38 -> -4.4505397 | D4: ='T4'!F38 -> -4.36977 | E4: ='T4'!G38 -> -4.9400003
B5: 2. Štrukturálne saldo | C5: ='T4'!E46 -> -4.2694248 | D5: ='T4'!F46 -> -3.7234434 | E5: ='T4'!G46 -> -4.2686465
B6: 3. Primárne štrukturálne saldo | C6: ='T4'!E47 -> -2.7202539 | D6: ='T4'!F47 -> -2.0685853 | E6: ='T4'!G47 -> -2.461285
B7: 4. Hrubý dlh | C7: ='T4'!E49 -> 61.392438 | D7: ='T4'!F49 -> 63.412486 | E7: ='T4'!G49 -> 66.268265
B8: 5. Zmena hrubého dlhu | C8: ='T4'!E50 -> 1.691704 | D8: ='T4'!F50 -> 2.0200478 | E8: ='T4'!G50 -> 2.8557796

Sheet T2
B2: TABUĽKA 2 – Makroekonomický scenár | D2: 2025 | E2: 2025 | F2: 2026 | G2: 2027
B3: Hrubý domáci produkt | C3: ESA kód | D3: mld. eur | E3: rast v % | F3: rast v % | G3: rast v %
B4: 1. Reálny HDP | C4: B.1*g | E4: 0.80741869 | F4: 0.76068682 | G4: 1.8131466
B5: 2. Deflátor HDP | E5: 4.1867444 | F5: 4.4613832 | G5: 2.8046892
B6: 3. Nominálny HDP | C6: B.1*g | D6: 136.75431 | E6: 5.0279677 | F6: 5.2560072 | G6: 4.6686889
B7: Dekompozícia reálneho HDP | C7: ESA kód | E7: rast v % | F7: rast v % | G7: rast v %
B8: 4. Konečná spotreba domácností a NISD | C8: P.3 | E8: 0.23503134 | F8: 0.52441089 | G8: 1.3910432
B9: 5. Konečná spotreba verejnej správy | C9: P.3 | E9: 1.105816 | F9: 0.57865196 | G9: 0.73182176
B10: 6. Tvorba hrubého fixného kapitálu | C10: P.51 | E10: 2.2243963 | F10: -0.095118208 | G10: -0.97419224
B11: 7. Zmena stavu zásob a čisté nadobudnutie cenností | C11: P.52 + P.53 | E11: n.a. | F11: n.a. | G11: n.a.
B12: 8. Export tovarov a služieb | C12: P.6 | E12: 3.9827467 | F12: 3.0575248 | G12: 4.1789262
B13: 9. Import tovarov a služieb | C13: P.7 | E13: 3.7126599 | F13: 3.2203074 | G13: 3.329093
B14: Príspevky k reálnemu HDP | C14: ESA kód | E14: rast v % | F14: rast v % | G14: rast v %
B15: 10. Domáci dopyt spolu | E15: 0.56166589 | F15: 1.1195637 | G15: 1.1391821
B16: 11. Zmena stavu zásob a čisté nadobudnutie cenností | C16: P.52 + P.53 | E16: -0.24894844 | F16: 0.73127404 | G16: 0.41921981
B17: 12. Saldo zahraničného obchodu s výrobkami a službami | C17: B.11 | E17: 0.35291849 | F17: -0.029854529 | G17: 0.88902155
B18: Deflátory a HICP | E18: rast v % | F18: rast v % | G18: rast v %
B19: 13. Deflátor domácej spotreby | E19: 4.1756829 | F19: 3.7126897 | G19: 2.844939
B20: 14. p.m. HICP | E20: 4.2411186 | F20: 3.6644235 | G20: 2.8183213
B21: 15. Deflátor spotreby verejnej správy | E21: 5.3092006 | F21: 4.0353414 | G21: 3.4260722
B22: 16. Deflátor investícií | E22: 3.3117612 | F22: 1.9796429 | G22: 2.6607679
B23: 17. Deflátor exportných cien | E23: 0.54570825 | F23: 1.7640297 | G23: 2.0982642
B24: 18. Deflátor importných cien | E24: 0.69952603 | F24: 0.63704525 | G24: 2.0188021
C25: ESA kód | D25: mld. eur | E25: rast v % | F25: rast v % | G25: rast v %
B26: 19. Domáca zamestnanosť (v tisícoch ľudí, národné účty) | D26: 2427.057 | E26: -0.13302939 | F26: 0.015920763 | G26: 0.051635804
B27: 20. Priemerný ročný počet odpracovaných hodín na zamestnanca | D27: 1618.8858 | E27: -0.68063462 | F27: -0.53197303 | G27: -0.27687132
B28: 21. Reálny HDP na zamestnanca | E28: =((1+E4/100)/(1+E26/100)-1)*100 -> 0.94170082 | F28: =((1+F4/100)/(1+F26/100)-1)*100 -> 0.7446475 | G28: =((1+G4/100)/(1+G26/100)-1)*100 -> 1.7606017
B29: 22. Reálny HDP na odpracovanú hodinu | E29: =((E28/100+1)/(1+E27/100)-1)*100 -> 1.6334533 | F29: =((F28/100+1)/(1+F27/100)-1)*100 -> 1.2834481 | G29: =((G28/100+1)/(1+G27/100)-1)*100 -> 2.0431298
B30: 23. Kompenzácie zamestnancov (mld. eur) | C30: D.1 | D30: 58.93269 | E30: 6.3687095 | F30: 5.1167544 | G30: 5.1532777
B31: 24. Kompenzácie na zamestnanca (= 23 / 19) | D31: =D30/D26*1000000 -> 24281.543 | E31: =(E30-E26)/(1+E26/100) -> 6.5103996 | F31: =(F30-F26)/(1+F26/100) -> 5.1000217 | G31: =(G30-G26)/(1+G26/100) -> 5.099009
E32: % | F32: % | G32: %
B33: 25. Nezamestnanosť (%) | E33: 5.4176358 | F33: 5.7568532 | G33: 5.7703088
E34: rast v % | F34: rast v % | G34: rast v %
B35: 26. Potenciálne HDP | E35: 1.8767727 | F35: 2.0407902 | G35: 1.8254715
B37: 27. Práca | E37: 0.1 | F37: 0.1 | G37: 0
B38: 28. Kapitál | E38: 0.7 | F38: 0.8 | G38: 0.8
B39: 29. TFP | E39: 1.1 | F39: 1.2 | G39: 1.1
E40: % pot. HDP | F40: % pot. HDP | G40: % pot. HDP
B41: 30. Produkčná medzera (% k potenciálnemu HDP) | E41: -0.4753672 | F41: -1.7239054 | G41: -1.7358007

Sheet T3
B2: TABUĽKA 3 – Externé predpoklady | C2: 2025 | D2: 2026 | E2: 2027
B4: 1. Krátkodobá úroková miera (%, ročný priemer) | C4: 2.1792615 | D4: 2.1548675 | E4: 2.9513919
B5: 2. Dlhodobá úroková miera (%, ročný priemer) | C5: 3.4911425 | D5: 3.800349 | E5: 3.854985
B6: 3. Výmenný kurz USD/EUR (ročný priemer) | C6: 1.129931 | D6: 1.16 | E6: 1.179375
B7: 4. Reálny rast svetovej ekonomiky, mimo EÚ (rast) | C7: n.a. | D7: n.a. | E7: n.a.
B8: 5. Reálny HDP EÚ (rast) | C8: n.a. | D8: n.a. | E8: n.a.
B9: 6. Svetový objem importu, mimo EÚ (rast) | C9: n.a. | D9: n.a. | E9: n.a.
B10: 7. Cena ropy (Brent, USD/barel) | C10: 68.222592 | D10: 87.303407 | E10: 78.219167

Sheet T4
B2: TABUĽKA 4 – Rozpočtový výhľad | D2: 2025 | E2: 2025 | F2: 2026 | G2: 2027
B3: Príjmy | C3: ESA kód | D3: mld. eur | E3: %HDP | F3: %HDP | G3: %HDP
B4: 1. Dane z produkcie a dovozu | C4: D.2 | D4: 16.466534 | E4: =IFERROR((D4/'T2'!$D$6)*100,0) -> 12.040961 | F4: 12.346164 | G4: 12.026133
B5: 2. Bežné dane z príjmu a bohatstva | C5: D.5 | D5: 11.156034 | E5: =IFERROR((D5/'T2'!$D$6)*100,0) -> 8.1577201 | F5: 8.2523985 | G5: 8.1886051
B6: 3. Sociálne odvody | C6: D.61 | D6: 22.412686 | E6: =IFERROR((D6/'T2'!$D$6)*100,0) -> 16.389016 | F6: 16.062845 | G6: 16.041367
B7: 4. Ostatné bežné príjmy | C7: (P.11+P.12+P.131) + D.39 + D.4 + D.7 | D7: 7.454831 | E7: =IFERROR((D7/'T2'!$D$6)*100,0) -> 5.4512585 | F7: 6.8191489 | G7: 5.2675188
B8: 5. Dane z kapitálu | C8: D.91 | D8: 0 | E8: =IFERROR((D8/'T2'!$D$6)*100,0) -> 0 | F8: 0 | G8: 0
B9: 6. Ostatné kapitálové príjmy | C9: D.92+D.99 | D9: 1.991069 | E9: =IFERROR((D9/'T2'!$D$6)*100,0) -> 1.455946 | F9: 0.47466646 | G9: 0.51975431
B10: 7. Príjmy spolu (= 1 + 2 + 3 + 4 + 5 + 6) | C10: TR | D10: =SUM(D4:D9) -> 59.481154 | E10: =SUM(E4:E9) -> 43.494902 | F10: =SUM(F4:F9) -> 43.955223 | G10: =SUM(G4:G9) -> 42.043378
B11: 8. Z toho: Transfery z EÚ (akruálne) | C11: D.7EU+D.9EU | D11: 3.162614 | E11: =IFERROR((D11/'T2'!$D$6)*100,0) -> 2.3126247 | F11: 3.09437 | G11: 1.7103704
B12: 9. Celkové príjmy bez transferov z EÚ (= 7 - 8) | D12: =D10-D11 -> 56.31854 | E12: =E10-E11 -> 41.182277 | F12: =F10-F11 -> 40.860853 | G12: =G10-G11 -> 40.333007
B13: 10a. p.m. Príjmové opatrenia (inkrement, bez financovania zo zdrojov EÚ) | D13: 1.5308615 | E13: =IFERROR((D13/'T2'!$D$6)*100,0) -> 1.1194247 | F13: 0.48125451 | G13: 0.059135027
B14: 10b. p.m. Zníženie príjmov financované transfermi z EÚ | D14: 0 | E14: =IFERROR((D14/'T2'!$D$6)*100,0) -> 0 | F14: 0 | G14: 0
B15: 11. p.m. Jednorazové príjmy zahrnuté v projekcii (level, bez financovania zo zdrojov EÚ) | D15: 0 | E15: =IFERROR((D15/'T2'!$D$6)*100,0) -> 0 | F15: 0.010481296 | G15: -0.010013783
B16: Výdavky | C16: ESA kód | D16: mld. eur | E16: %HDP | F16: %HDP | G16: %HDP
B17: 12. Kompenzácie zamestnancov | C17: D.1 | D17: 16.046188 | E17: =IFERROR((D17/'T2'!$D$6)*100,0) -> 11.733588 | F17: 11.364485 | G17: 11.362357
B18: 13. Medzispotreba | C18: P.2 | D18: 7.80183 | E18: =IFERROR((D18/'T2'!$D$6)*100,0) -> 5.7049974 | F18: 6.1589933 | G18: 6.307494
B19: 14. Úrokové náklady | C19: D.41 | D19: 2.118558 | E19: =IFERROR((D19/'T2'!$D$6)*100,0) -> 1.5491709 | F19: 1.6548581 | G19: 1.8073614
B20: 15. Sociálne dávky okrem naturálnych sociálnych transferov | C20: D.62 | D20: 22.307162 | E20: =IFERROR((D20/'T2'!$D$6)*100,0) -> 16.311853 | F20: 15.377225 | G20: 15.179557
B21: 16. Naturálne sociálne transfery | C21: D.632 | D21: 5.211028 | E21: =IFERROR((D21/'T2'!$D$6)*100,0) -> 3.8105036 | F21: 3.8554265 | G21: 3.7777337
B22: 17. Subvencie | C22: D.3 | D22: 1.751075 | E22: =IFERROR((D22/'T2'!$D$6)*100,0) -> 1.2804532 | F22: 1.0947497 | G22: 0.81627035
B23: 18. Ostatné bežné transfery | C23: D.29 + (D.4-D.41) + D.5 + D.7 + D.8 | D23: 3.029047 | E23: =IFERROR((D23/'T2'!$D$6)*100,0) -> 2.2149554 | F23: 2.7276017 | G23: 3.4445695
B24: 19. Tvorba hrubého fixného kapitálu | C24: P.51 | D24: 6.191979 | E24: =IFERROR((D24/'T2'!$D$6)*100,0) -> 4.5278126 | F24: 5.3069043 | G24: 3.2764313
B25: 20. Z toho: Národne financované verejné investície | D25: 3.957992 | E25: =IFERROR((D25/'T2'!$D$6)*100,0) -> 2.8942356 | F25: 3.1589841 | G25: 2.3518286
B26: 21. Kapitálové transfery | C26: D.9 | D26: 0.984118 | E26: =IFERROR((D26/'T2'!$D$6)*100,0) -> 0.71962484 | F26: 0.7373102 | G26: 0.95815252
B27: 22. Ostatné kapitálové výdavky | C27: P.52+P.53+NP | D27: 0.126474 | E27: =IFERROR((D27/'T2'!$D$6)*100,0) -> 0.092482641 | F27: 0.047438509 | G27: 0.053451314
B28: 23. Výdavky spolu (= 12 + 13 + 14 + 15 + 16 + 17 + 18 + 19 + 21 + 22) | C28: TE | D28: =SUM(D17:D24,D26:D27) -> 65.567459 | E28: =SUM(E17:E24,E26:E27) -> 47.945442 | F28: =SUM(F17:F24,F26:F27) -> 48.324993 | G28: =SUM(G17:G24,G26:G27) -> 46.983378
B29: 24. Z toho: Výdavky financované z transferov z EÚ (= 8 - 10b) | D29: =D11-D14 -> 3.162614 | E29: =E11-E14 -> 2.3126247 | F29: =F11-F14 -> 3.09437 | G29: =G11-G14 -> 1.7103704
B30: 25. Národne financované výdavky (= 23-24) | D30: =D28-D29 -> 62.404845 | E30: =E28-E29 -> 45.632817 | F30: =F28-F29 -> 45.230623 | G30: =G28-G29 -> 45.273008
B31: 26. p.m. Národné spolufinancovanie fondov EÚ | D31: 0.500391 | E31: =IFERROR((D31/'T2'!$D$6)*100,0) -> 0.3659051 | F31: 0.49021923 | G31: 0.31385813
B32: 27. p.m. Cyklická zložka dávok v nezamestnanosti | D32: -0.037844193 | E32: =IFERROR((D32/'T2'!$D$6)*100,0) -> -0.027673126 | F32: 0.026557341 | G32: 0.026740593
B33: 28. p.m. Jednorazové výdavky zahrnuté v projekcii (level, bez financovania zo zdrojov EÚ) | D33: 0 | E33: =IFERROR((D33/'T2'!$D$6)*100,0) -> 0 | F33: 0 | G33: 0
B34: 29. Čisté národne financované primárne výdavky (bez príjmových opatrení) (= 25 - 26 - 27 - 28 - 14) | D34: =D30-D31-D32-D33-D19 -> 59.82374 | E34: =E30-E31-E32-E33-E19 -> 43.745414 | F34: =F30-F31-F32-F33-F19 -> 43.058988 | G34: =G30-G31-G32-G33-G19 -> 43.125047
B35: Národne financované primárne výdavky | E35: rast v % | F35: rast v % | G35: rast v %
B36: 30. Rast čistých národne financovaných primárnych výdavkov | E36: 1.55023 | F36: =(F34-F13+F15)/E34*(100+'T2'!F6)-100 -> 2.4716653 | G36: =(G34-G13+G15)/F34*(100+'T2'!G6)-100 -> 4.6611792
B37: Výsledok hospodárenia | C37: ESA kód | D37: mld. eur | E37: %HDP | F37: %HDP | G37: %HDP
B38: 31. Výsledok hospodárenia (= 7 - 23) | C38: B.9 | D38: =D10-D28 -> -6.086305 | E38: =E10-E28 -> -4.4505397 | F38: =F10-F28 -> -4.36977 | G38: =G10-G28 -> -4.9400003
B39: Čisté pôžičky podľa subsektorov verejnej správy | C39: ESA kód | D39: mld. eur | E39: %HDP | F39: %HDP | G39: %HDP
B40: 31a. Centrálna vláda | C40: B.9 (S.1311) | D40: -6.930523 | E40: =IFERROR((D40/'T2'!$D$6)*100,0) -> -5.0678643 | F40: -4.6077546 | G40: -5.0033074
B41: 31b. Štátna správa na úrovni štátov | C41: B.9 (S.1312) | D41: n.a | E41: n.a | F41: n.a | G41: n.a
...

Sheet T5
B2: TABUĽKA 5 – Rozpočtový výhľad pri nezmenených politikách | D2: 2025 | E2: 2025 | F2: 2026 | G2: 2027
B3: Príjmy | C3: ESA kód | D3: mld. eur | E3: %HDP | F3: %HDP | G3: %HDP
B4: 1. Dane z produkcie a dovozu | C4: D.2 | D4: ='T4'!D4 -> 16.466534 | E4: ='T4'!E4 -> 12.040961 | F4: 11.86764 | G4: 12.79266
B5: 2. Bežné dane z príjmu a bohatstva | C5: D.5 | D5: ='T4'!D5 -> 11.156034 | E5: ='T4'!E5 -> 8.1577201 | F5: 8.1231938 | G5: 8.7870029
B6: 3. Sociálne odvody | C6: D.61 | D6: ='T4'!D6 -> 22.412686 | E6: ='T4'!E6 -> 16.389016 | F6: 15.885409 | G6: 17.461819
B7: 4. Ostatné bežné príjmy | C7: (P.11 + P.12 + P.131) + D.39 + D.4 + D.7 | D7: ='T4'!D7 -> 7.454831 | E7: ='T4'!E7 -> 5.4512585 | F7: 5.6852779 | G7: 5.2572037
B8: 5. Dane z kapitálu | C8: D.91 | D8: ='T4'!D8 -> 0 | E8: ='T4'!E8 -> 0 | F8: 0 | G8: 0
B9: 6. Ostatné kapitálové príjmy | C9: D.92 + D.99 | D9: ='T4'!D9 -> 1.991069 | E9: ='T4'!E9 -> 1.455946 | F9: 0.53555968 | G9: 0.28468694
B10: 7. Príjmy spolu (= 1 + 2 + 3 + 4 + 5 + 6) | C10: TR | D10: =SUM(D4:D9) -> 59.481154 | E10: =SUM(E4:E9) -> 43.494902 | F10: =SUM(F4:F9) -> 42.09708 | G10: =SUM(G4:G9) -> 44.583372
B11: Výdavky | C11: ESA kód | D11: mld. eur | E11: %HDP | F11: %HDP | G11: %HDP
B12: 8. Kompenzácie zamestnancov | C12: D.1 | D12: ='T4'!D17 -> 16.046188 | E12: ='T4'!E17 -> 11.733588 | F12: 10.968794 | G12: 12.120502
B13: 9. Medzispotreba | C13: P.2 | D13: ='T4'!D18 -> 7.80183 | E13: ='T4'!E18 -> 5.7049974 | F13: 5.8488122 | G13: 6.0692087
B14: 10. Úrokové náklady | C14: D.41 | D14: ='T4'!D19 -> 2.118558 | E14: ='T4'!E19 -> 1.5491709 | F14: 1.6810318 | G14: 2.3459858
B15: 11. Sociálne dávky okrem naturálnych sociálnych transferov | C15: D.62 | D15: ='T4'!D20 -> 22.307162 | E15: ='T4'!E20 -> 16.311853 | F15: 15.967585 | G15: 17.017338
B16: 12. Naturálne sociálne transfery | C16: D.632 | D16: ='T4'!D21 -> 5.211028 | E16: ='T4'!E21 -> 3.8105036 | F16: 3.8554265 | G16: 4.0258946
B17: 13. Subvencie | C17: D.3 | D17: ='T4'!D22 -> 1.751075 | E17: ='T4'!E22 -> 1.2804532 | F17: 0.70406114 | G17: 0.98298216
B18: 14. Ostatné bežné transfery | C18: D.29 + (D.4 - D.41) + D.5 + D.7 + D.8 | D18: ='T4'!D23 -> 3.029047 | E18: ='T4'!E23 -> 2.2149554 | F18: 3.5064687 | G18: 3.9237814
B19: 15. Tvorba hrubého fixného kapitálu | C19: P.51 | D19: ='T4'!D24 -> 6.191979 | E19: ='T4'!E24 -> 4.5278126 | F19: 3.9747824 | G19: 4.2577242
B20: 16. Z toho: Národne financované verejné investície | D20: ='T4'!D25 -> 3.957992 | E20: ='T4'!E25 -> 2.8942356 | F20: 1.8268622 | G20: 3.3331216
B21: 17. Kapitálové transfery | C21: D.9 | D21: ='T4'!D26 -> 0.984118 | E21: ='T4'!E26 -> 0.71962484 | F21: 0.65331807 | G21: 0.53937783
B22: 18. Ostatné kapitálové výdavky | C22: P.52 + P.53 + NP | D22: ='T4'!D27 -> 0.126474 | E22: ='T4'!E27 -> 0.092482641 | F22: 0.025466081 | G22: 0.014227553
B23: 19. Výdavky spolu (= 8 + 9 + 10 + 11 + 12 + 13 + 14 + 15 + 17 + 18) | C23: TE | D23: =SUM(D12:D19,D21:D22) -> 65.567459 | E23: =SUM(E12:E19,E21:E22) -> 47.945442 | F23: =SUM(F12:F19,F21:F22) -> 47.185746 | G23: =SUM(G12:G19,G21:G22) -> 51.297022
B24: Saldá | C24: ESA kód | D24: mld. eur | E24: %HDP | F24: %HDP | G24: %HDP
B25: 20. Výsledok hospodárenia (= 7 - 19) | C25: B.9 | D25: =D10-D23 -> -6.086305 | E25: =E10-E23 -> -4.4505397 | F25: =F10-F23 -> -5.0886655 | G25: =G10-G23 -> -6.7136504
B26: 21. Primárny výsledok hospodárenia (= 20 + 10) | C26: B.9 + D.41p | D26: =D25+D14 -> -3.967747 | E26: =E25+E14 -> -2.9013688 | F26: =F25+F14 -> -3.4076337 | G26: =G25+G14 -> -4.3676646

Sheet T6
B2: TABUĽKA 6 – Granty z Plánu obnovy a odolnosti | C2: 2020 | D2: 2021 | E2: 2022 | F2: 2023 | G2: 2024 | H2: 2025 | I2: 2026 | J2: 2027 | K2: 2028
B3: Príjmy z RRF grantov | C3: %HDP | D3: %HDP | E3: %HDP | F3: %HDP | G3: %HDP | H3: %HDP | I3: %HDP | J3: %HDP | K3: %HDP
B4: 1. RRF granty zahrnuté v projekciách | C4: =C7+C10+C14 -> 0 | D4: =D7+D10+D14 -> 0.0025547628 | E4: =E7+E10+E14 -> 0.040212089 | F4: =F7+F10+F14 -> 0.14424395 | G4: =G7+G10+G14 -> 0.5360186 | H4: =H7+H10+H14 -> 1.3939541 | I4: =I7+I10+I14 -> 1.9272806 | J4: =J7+J10+J14 -> 0.2294649 | K4: =K7+K10+K14 -> 0.14354549
B5: 2. Vyplatené RRF granty z EÚ | C5: 0 | D5: 0.80744289 | E5: 0.3625881 | F5: 1.1751025 | G5: 0.61337408 | H5: 0.36070024 | I5: 1.6966431 | J5: 0 | K5: 0
B6: Výdavky financované RRF grantami | C6: %HDP | D6: %HDP | E6: %HDP | F6: %HDP | G6: %HDP | H6: %HDP | I6: %HDP | J6: %HDP | K6: %HDP
B7: 3. Celkové bežné výdavky | C7: 0 | D7: 0.002552418 | E7: 0.037188286 | F7: 0.085120373 | G7: 0.12890226 | H7: 0.28850783 | I7: 0.47755095 | J7: 0.039744345 | K7: 0.024519981
B8: 4. Tvorba hrubého fixného kapitálu | C8: 0 | D8: 2.3447573e-06 | E8: 0.0027960299 | F8: 0.053571306 | G8: 0.27315192 | H8: 0.89150304 | I8: 0.81961228 | J8: 0.18972055 | K8: 0.11902551
B9: 5. Ostatné kapitálové výdavky | C9: 0 | D9: 0 | E9: 0.00022777333 | F9: 0.0055522677 | G9: 0.13396442 | H9: 0.21394322 | I9: 0.63011739 | J9: 0 | K9: 0
B10: 6. Celkové kapitálové výdavky (= 4+5) | C10: 0 | D10: =D8+D9 -> 2.3447573e-06 | E10: =E8+E9 -> 0.0030238032 | F10: =F8+F9 -> 0.059123573 | G10: =G8+G9 -> 0.40711634 | H10: =H8+H9 -> 1.1054463 | I10: =I8+I9 -> 1.4497297 | J10: =J8+J9 -> 0.18972055 | K10: =K8+K9 -> 0.11902551
B11: Iné výdavky financované z RRF | C11: %HDP | D11: %HDP | E11: %HDP | F11: %HDP | G11: %HDP | H11: %HDP | I11: %HDP | J11: %HDP | K11: %HDP
B12: 7. Zníženie daňových príjmov | C12: 0 | D12: 0 | E12: 0 | F12: 0 | G12: 0 | H12: 0 | I12: 0 | J12: 0 | K12: 0
B13: 8. Iné výdavky s vplyvom na príjmy | C13: 0 | D13: 0 | E13: 0 | F13: 0 | G13: 0 | H13: 0 | I13: 0 | J13: 0 | K13: 0
B14: 9. Finančné transakcie | C14: 0 | D14: 0 | E14: 0 | F14: 0 | G14: 0 | H14: 0 | I14: 0 | J14: 0 | K14: 0
